Workbook
Name _ftn1: 【解説】BS貸借対照表!$E$18
Name _ftn1: BS貸借対照表!$E$18
Name _ftn2: 【解説】BS貸借対照表!#REF!
Name _ftn2: BS貸借対照表!#REF!
Name _ftnref1: 【解説】BS貸借対照表!#REF!
Name _ftnref1: BS貸借対照表!#REF!
Name _ftnref2: 【解説】BS貸借対照表!#REF!
Name _ftnref2: BS貸借対照表!#REF!
Name a: #REF!
Name b: #REF!
Name Webページ: #REF!
Name クラウド利用費_A: #REF!
Name クラウド利用費_B: #REF!
Name クラウド利用費_C: #REF!
Name グローバル展開_インバウンド市場開拓: #REF!
Name グローバル展開_海外市場開拓: #REF!
Name グローバル展開_海外事業者との共同事業: #REF!
Name グローバル展開_事業転換: #REF!
Name グローバル展開の類型_変更理由: #REF!
Name サブタイトル: #REF!
Name その他支援者１_契約期間: #REF!
Name その他支援者１_支援者名: #REF!
Name その他支援者１_支店名: #REF!
Name その他支援者１_担当者名等: #REF!
Name その他支援者１_報酬: #REF!
Name その他支援者１_本店・支店: #REF!
Name その他支援者２_契約期間: #REF!
Name その他支援者２_支援者名: #REF!
Name その他支援者２_支店名: #REF!
Name その他支援者２_担当者名等: #REF!
Name その他支援者２_報酬: #REF!
Name その他支援者２_本店・支店: #REF!
Name その他支援者３_契約期間: #REF!
Name その他支援者３_支援者名: #REF!
Name その他支援者３_支店名: #REF!
Name その他支援者３_担当者名等: #REF!
Name その他支援者３_報酬: #REF!
Name その他支援者３_本店・支店: #REF!
Name その他支援者４_契約期間: #REF!
Name その他支援者４_支援者名: #REF!
Name その他支援者４_支店名: #REF!
Name その他支援者４_担当者名等: #REF!
Name その他支援者４_報酬: #REF!
Name その他支援者４_本店・支店: #REF!
Name その他支援者５_契約期間: #REF!
Name その他支援者５_支援者名: #REF!
Name その他支援者５_支店名: #REF!
Name その他支援者５_担当者名等: #REF!
Name その他支援者５_報酬: #REF!
Name その他支援者５_本店・支店: #REF!
Name その他事業実施場所_変更理由: #REF!
Name タイトル: #REF!
Name 運搬費_A: #REF!
Name 運搬費_B: #REF!
Name 運搬費_C: #REF!
Name 加点１: #REF!
Name 加点２: #REF!
Name 課税所得額_１５億円以下: #REF!
Name 課税所得額_１５億円超: #REF!
Name 課税所得額_２年前: #REF!

Sheet はじめに
AH2: ver. | AI2: 1.0
C3: 1. 本ファイルの目的
D5: 本補助金の応募申請では、事業計画関連の申請内容を以下4種類のファイル(応募申請画面インポート用フォーマット)に記入していただきます。
D7: 本ファイルは「財務情報・収益計画」の情報を記入いただくフォーマットとなりますので、「3. 本ファイルの利用方法」に従い作成のうえ、
D8: 応募申請時に電子申請システムに添付してください。
E11: ➊ 応募申請画面インポート用フォーマット(事業計画)
E12: ・ | F12: 会社概要、経営戦略及び補助事業計画を入力するフォーマットです。
E14: ❷ 応募申請画面インポート用フォーマット(財務情報・収益計画)
E15: ・ | F15: 直近の貸借対照表・損益計算書の内容及び本補助金の要件を満たす収益計画を入力するフォーマットです。
E17: ❸ 応募申請画面インポート用フォーマット(資金調達表・補助対象予定経費)
E18: ・ | F18: 補助事業の実施にあたり見込まれる補助対象経費の具体的な内容及び金額、必要な資金の調達方法及び金額等を入力する
F19: フォーマットです。
E21: ❹ 応募申請画面インポート用フォーマット(スケジュール_補助事業実施期間・事業計画期間)
E22: ・ | F22: 補助事業実施期間及び事業計画期間の補助事業の実施スケジュールを入力するフォーマットです。
C26: 2. 各シートの概要
D28: シート名 | L28: 主な内容・役割
D29: はじめに | L29: (※本シート) 本ファイルの目的、各シートの入力方法等について説明しています。
D30: BS貸借対照表 | L30: 直近3期分の貸借対照表(BS)の内容を入力します。
D31: PL損益計算書・収益計画 | L31: 直近3期分の損益計算書(PL)に加えて、「付加価値額要件」、「賃上げ要件」、「賃上げ特例要件(賃上げ特例の適用を受ける場合のみ)」を満たす収益計画を作成し、内容を入力します。
D32: 【解説】BS貸借対照表 | L32: 貸借対照表の各項目や自動計算の対象項目について解説しています。
D33: 【解説】PL損益計算書・収益計画 | L33: 損益計算書及び収益計画の各項目や自動計算の対象項目について解説しています。
C36: 3. 本ファイルの利用方法
D38: 凡例
H40: ：要入力(黒太枠で囲われているセルに値を入力してください)
H42: ：入力不要(入力内容に応じ、不要な項目はグレーアウトされます)
E44: XXXX | H44: ：入力不可(関数で自動入力されます)
E46: - | H46: ：入力不可(入力不要です)
D48: ① 「BS貸借対照表」シートの入力
E50: ❶ | F50: 「補助対象事業枠」(Q3)をプルダウンから選択してください。
E52: ❷ | F52: 「決算書等の提出可能期数」(Q4)をプルダウンから選択してください。
F53: ・ | G53: 提出可能な決算書の期数と合わせてプルダウンから選択してください。
F54: ・ | G54: 新規設立・創業後1年に満たない事業者(革新的新製品・サービス枠及びグローバル枠で申請する場合)で
G55: 決算書が1期もない場合は「0期分」を選択してください。
F56: ・ | G56: 電子申請システムの応募申請画面で、直近3期分の決算書の提出が必要です。
G57: 直近3期分の提出ができない場合は、今期までの決算書の提出が必要です。
E59: ❸ | F59: 「直近の事業年度の決算期間の月数」(Q5)をプルダウンから選択してください。
F60: ・ | G60: 直近の事業年度の決算書の対象が何か月分なのか選択してください。
G61: ※ | H61: ❷で0期分を選択した事業者は本項目は選択不要です。
E63: ❹ | F63: 直近3期分の貸借対照表(BS)をもとに、値を入力してください。
F64: ・ | G64: 「【解説】BS貸借対照表」シートを確認してから、値を入力してください。
...

Sheet BS貸借対照表
G2: 金額(円) | N2: 金額(円) | S2: 形式チェック | Y2: 必須チェック | AE2: 数値チェック | AH2: 不要箇所チェック
B3: 科目 | E3: 直近の事業年度の 2期前 | F3: 直近の事業年度の 1期前 | G3: 直近の事業年度 | I3: 科目 | L3: 直近の事業年度の 2期前 | M3: 直近の事業年度の 1期前 | N3: 直近の事業年度 | P3: 補助対象事業枠 | Q3: 革新的新製品・サービス枠 | S3: - | T3: - | U3: - | V3: - | W3: - | X3: - | Y3: =IF($Q$4=リスト!$B$6,IF(AND($Q$3<>"",$Q$4<>""),"OK","NG"),IF(AND($Q$3<>"",$Q$4<>"",$Q$5<>""),"OK","NG")) -> OK | Z3: - | AA3: - | AB3: - | AC3: - | AD3: - | AE3: - | AF3: - | AG3: - | AH3: =IF($Q$4=リスト!$B$6,IF($Q$5<>"","NG","OK"),"-") -> - | AI3: - | AJ3: - | AK3: - | AL3: - | AM3: -
B4: 資産の部 | I4: 負債の部 | P4: 決算書等の提出可能期数 | Q4: 3期分 | S4: - | T4: - | U4: - | V4: - | W4: - | X4: - | Y4: - | Z4: - | AA4: - | AB4: - | AC4: - | AD4: - | AE4: - | AF4: - | AG4: - | AH4: - | AI4: - | AJ4: - | AK4: - | AL4: - | AM4: -
B5: 流動資産 | E5: =SUM(E6:E10) -> 100000000 | F5: =SUM(F6:F10) -> 105000000 | G5: =SUM(G6:G10) -> 110000000 | I5: 流動負債 | L5: =SUM(L6:L10) -> 60000000 | M5: =SUM(M6:M10) -> 62000000 | N5: =SUM(N6:N10) -> 64000000 | P5: 直近の事業年度の 決算期間の月数 | Q5: 12か月 | S5: =IF(E5="","-",IFERROR(IF(AND(ISNUMBER(E5),E5=INT(E5),E5>=0,LEN(E5)<=12),"OK","NG"),"NG")) -> OK | T5: =IF(F5="","-",IFERROR(IF(AND(ISNUMBER(F5),F5=INT(F5),F5>=0,LEN(F5)<=12),"OK","NG"),"NG")) -> OK | U5: =IF(G5="","-",IFERROR(IF(AND(ISNUMBER(G5),G5=INT(G5),G5>=0,LEN(G5)<=12),"OK","NG"),"NG")) -> OK | V5: =IF(L5="","-",IFERROR(IF(AND(ISNUMBER(L5),L5=INT(L5),L5>=0,LEN(L5)<=12),"OK","NG"),"NG")) -> OK | W5: =IF(M5="","-",IFERROR(IF(AND(ISNUMBER(M5),M5=INT(M5),M5>=0,LEN(M5)<=12),"OK","NG"),"NG")) -> OK | X5: =IF(N5="","-",IFERROR(IF(AND(ISNUMBER(N5),N5=INT(N5),N5>=0,LEN(N5)<=12),"OK","NG"),"NG")) -> OK | Y5: - | Z5: - | AA5: - | AB5: - | AC5: - | AD5: - | AE5: - | AF5: - | AG5: - | AH5: - | AI5: - | AJ5: - | AK5: - | AL5: - | AM5: -
C6: 現金及び預金 | E6: 50000000 | F6: 55000000 | G6: 60000000 | J6: 支払手形*2 | L6: 0 | M6: 0 | N6: 0 | S6: =IF(E6="","-",IFERROR(IF(AND(ISNUMBER(E6),E6=INT(E6),LEN(ABS(E6))<=12),"OK","NG"),"NG")) -> OK | T6: =IF(F6="","-",IFERROR(IF(AND(ISNUMBER(F6),F6=INT(F6),LEN(ABS(F6))<=12),"OK","NG"),"NG")) -> OK | U6: =IF(G6="","-",IFERROR(IF(AND(ISNUMBER(G6),G6=INT(G6),LEN(ABS(G6))<=12),"OK","NG"),"NG")) -> OK | V6: =IF(L6="","-",IFERROR(IF(AND(ISNUMBER(L6),L6=INT(L6),LEN(ABS(L6))<=12),"OK","NG"),"NG")) -> OK | W6: =IF(M6="","-",IFERROR(IF(AND(ISNUMBER(M6),M6=INT(M6),LEN(ABS(M6))<=12),"OK","NG"),"NG")) -> OK | X6: =IF(N6="","-",IFERROR(IF(AND(ISNUMBER(N6),N6=INT(N6),LEN(ABS(N6))<=12),"OK","NG"),"NG")) -> OK | Y6: =IF($Q$4=リスト!$B$3,IF(E6="","NG","OK"),"-") -> OK | Z6: =IF(OR($Q$4=リスト!$B$3,$Q$4=リスト!$B$4),IF(F6="","NG","OK"),"-") -> OK | AA6: =IF(OR($Q$4=リスト!$B$3,$Q$4=リスト!$B$4,$Q$4=リスト!$B$5),IF(G6="","NG","OK"),"-") -> OK | AB6: =IF($Q$4=リスト!$B$3,IF(L6="","NG","OK"),"-") -> OK | AC6: =IF(OR($Q$4=リスト!$B$3,$Q$4=リスト!$B$4),IF(M6="","NG","OK"),"-") -> OK | AD6: =IF(OR($Q$4=リスト!$B$3,$Q$4=リスト!$B$4,$Q$4=リスト!$B$5),IF(N6="","NG","OK"),"-") -> OK | AE6: - | AF6: - | AG6: - | AH6: =IF(OR($Q$4=リスト!$B$4,$Q$4=リスト!$B$5,$Q$4=リスト!$B$6),IF(E6<>"","NG","OK"),"-") -> - | AI6: =IF(OR($Q$4=リスト!$B$5,$Q$4=リスト!$B$6),IF(F6<>"","NG","OK"),"-") -> - | AJ6: =IF($Q$4=リスト!$B$6,IF(G6<>"","NG","OK"),"-") -> - | AK6: =IF(OR($Q$4=リスト!$B$4,$Q$4=リスト!$B$5,$Q$4=リスト!$B$6),IF(L6<>"","NG","OK"),"-") -> - | AL6: =IF(OR($Q$4=リスト!$B$5,$Q$4=リスト!$B$6),IF(M6<>"","NG","OK"),"-") -> - | AM6: =IF($Q$4=リスト!$B$6,IF(N6<>"","NG","OK"),"-") -> -
C7: 受取手形*1 | E7: 0 | F7: 0 | G7: 0 | J7: 買掛金 | L7: 30000000 | M7: 32000000 | N7: 34000000 | P7: 提出可否 | Q7: =IF(COUNTIF(S3:AM22,"NG")>0,"NG","OK") -> OK | S7: =IF(E7="","-",IFERROR(IF(AND(ISNUMBER(E7),E7=INT(E7),LEN(ABS(E7))<=12),"OK","NG"),"NG")) -> OK | T7: =IF(F7="","-",IFERROR(IF(AND(ISNUMBER(F7),F7=INT(F7),LEN(ABS(F7))<=12),"OK","NG"),"NG")) -> OK | U7: =IF(G7="","-",IFERROR(IF(AND(ISNUMBER(G7),G7=INT(G7),LEN(ABS(G7))<=12),"OK","NG"),"NG")) -> OK | V7: =IF(L7="","-",IFERROR(IF(AND(ISNUMBER(L7),L7=INT(L7),LEN(ABS(L7))<=12),"OK","NG"),"NG")) -> OK | W7: =IF(M7="","-",IFERROR(IF(AND(ISNUMBER(M7),M7=INT(M7),LEN(ABS(M7))<=12),"OK","NG"),"NG")) -> OK | X7: =IF(N7="","-",IFERROR(IF(AND(ISNUMBER(N7),N7=INT(N7),LEN(ABS(N7))<=12),"OK","NG"),"NG")) -> OK | Y7: =IF($Q$4=リスト!$B$3,IF(E7="","NG","OK"),"-") -> OK | Z7: =IF(OR($Q$4=リスト!$B$3,$Q$4=リスト!$B$4),IF(F7="","NG","OK"),"-") -> OK | AA7: =IF(OR($Q$4=リスト!$B$3,$Q$4=リスト!$B$4,$Q$4=リスト!$B$5),IF(G7="","NG","OK"),"-") -> OK | AB7: =IF($Q$4=リスト!$B$3,IF(L7="","NG","OK"),"-") -> OK | AC7: =IF(OR($Q$4=リスト!$B$3,$Q$4=リスト!$B$4),IF(M7="","NG","OK"),"-") -> OK | AD7: =IF(OR($Q$4=リスト!$B$3,$Q$4=リスト!$B$4,$Q$4=リスト!$B$5),IF(N7="","NG","OK"),"-") -> OK | AE7: - | AF7: - | AG7: - | AH7: =IF(OR($Q$4=リスト!$B$4,$Q$4=リスト!$B$5,$Q$4=リスト!$B$6),IF(E7<>"","NG","OK"),"-") -> - | AI7: =IF(OR($Q$4=リスト!$B$5,$Q$4=リスト!$B$6),IF(F7<>"","NG","OK"),"-") -> - | AJ7: =IF($Q$4=リスト!$B$6,IF(G7<>"","NG","OK"),"-") -> - | AK7: =IF(OR($Q$4=リスト!$B$4,$Q$4=リスト!$B$5,$Q$4=リスト!$B$6),IF(L7<>"","NG","OK"),"-") -> - | AL7: =IF(OR($Q$4=リスト!$B$5,$Q$4=リスト!$B$6),IF(M7<>"","NG","OK"),"-") -> - | AM7: =IF($Q$4=リスト!$B$6,IF(N7<>"","NG","OK"),"-") -> -
C8: 売掛金 | E8: 35000000 | F8: 35000000 | G8: 35000000 | J8: 短期借入金 | L8: 20000000 | M8: 20000000 | N8: 20000000 | P8: =IF($Q$7="NG","※「はじめに」シートの3.①.❺をご確認の上、入力内容に誤りがないかをご確認ください。","") | S8: =IF(E8="","-",IFERROR(IF(AND(ISNUMBER(E8),E8=INT(E8),LEN(ABS(E8))<=12),"OK","NG"),"NG")) -> OK | T8: =IF(F8="","-",IFERROR(IF(AND(ISNUMBER(F8),F8=INT(F8),LEN(ABS(F8))<=12),"OK","NG"),"NG")) -> OK | U8: =IF(G8="","-",IFERROR(IF(AND(ISNUMBER(G8),G8=INT(G8),LEN(ABS(G8))<=12),"OK","NG"),"NG")) -> OK | V8: =IF(L8="","-",IFERROR(IF(AND(ISNUMBER(L8),L8=INT(L8),LEN(ABS(L8))<=12),"OK","NG"),"NG")) -> OK | W8: =IF(M8="","-",IFERROR(IF(AND(ISNUMBER(M8),M8=INT(M8),LEN(ABS(M8))<=12),"OK","NG"),"NG")) -> OK | X8: =IF(N8="","-",IFERROR(IF(AND(ISNUMBER(N8),N8=INT(N8),LEN(ABS(N8))<=12),"OK","NG"),"NG")) -> OK | Y8: =IF($Q$4=リスト!$B$3,IF(E8="","NG","OK"),"-") -> OK | Z8: =IF(OR($Q$4=リスト!$B$3,$Q$4=リスト!$B$4),IF(F8="","NG","OK"),"-") -> OK | AA8: =IF(OR($Q$4=リスト!$B$3,$Q$4=リスト!$B$4,$Q$4=リスト!$B$5),IF(G8="","NG","OK"),"-") -> OK | AB8: =IF($Q$4=リスト!$B$3,IF(L8="","NG","OK"),"-") -> OK | AC8: =IF(OR($Q$4=リスト!$B$3,$Q$4=リスト!$B$4),IF(M8="","NG","OK"),"-") -> OK | AD8: =IF(OR($Q$4=リスト!$B$3,$Q$4=リスト!$B$4,$Q$4=リスト!$B$5),IF(N8="","NG","OK"),"-") -> OK | AE8: - | AF8: - | AG8: - | AH8: =IF(OR($Q$4=リスト!$B$4,$Q$4=リスト!$B$5,$Q$4=リスト!$B$6),IF(E8<>"","NG","OK"),"-") -> - | AI8: =IF(OR($Q$4=リスト!$B$5,$Q$4=リスト!$B$6),IF(F8<>"","NG","OK"),"-") -> - | AJ8: =IF($Q$4=リスト!$B$6,IF(G8<>"","NG","OK"),"-") -> - | AK8: =IF(OR($Q$4=リスト!$B$4,$Q$4=リスト!$B$5,$Q$4=リスト!$B$6),IF(L8<>"","NG","OK"),"-") -> - | AL8: =IF(OR($Q$4=リスト!$B$5,$Q$4=リスト!$B$6),IF(M8<>"","NG","OK"),"-") -> - | AM8: =IF($Q$4=リスト!$B$6,IF(N8<>"","NG","OK"),"-") -> -
C9: 棚卸資産 | E9: 15000000 | F9: 15000000 | G9: 15000000 | J9: 1年以内返済長期借入金 | L9: 0 | M9: 0 | N9: 0 | S9: =IF(E9="","-",IFERROR(IF(AND(ISNUMBER(E9),E9=INT(E9),LEN(ABS(E9))<=12),"OK","NG"),"NG")) -> OK | T9: =IF(F9="","-",IFERROR(IF(AND(ISNUMBER(F9),F9=INT(F9),LEN(ABS(F9))<=12),"OK","NG"),"NG")) -> OK | U9: =IF(G9="","-",IFERROR(IF(AND(ISNUMBER(G9),G9=INT(G9),LEN(ABS(G9))<=12),"OK","NG"),"NG")) -> OK | V9: =IF(L9="","-",IFERROR(IF(AND(ISNUMBER(L9),L9=INT(L9),LEN(ABS(L9))<=12),"OK","NG"),"NG")) -> OK | W9: =IF(M9="","-",IFERROR(IF(AND(ISNUMBER(M9),M9=INT(M9),LEN(ABS(M9))<=12),"OK","NG"),"NG")) -> OK | X9: =IF(N9="","-",IFERROR(IF(AND(ISNUMBER(N9),N9=INT(N9),LEN(ABS(N9))<=12),"OK","NG"),"NG")) -> OK | Y9: =IF($Q$4=リスト!$B$3,IF(E9="","NG","OK"),"-") -> OK | Z9: =IF(OR($Q$4=リスト!$B$3,$Q$4=リスト!$B$4),IF(F9="","NG","OK"),"-") -> OK | AA9: =IF(OR($Q$4=リスト!$B$3,$Q$4=リスト!$B$4,$Q$4=リスト!$B$5),IF(G9="","NG","OK"),"-") -> OK | AB9: =IF($Q$4=リスト!$B$3,IF(L9="","NG","OK"),"-") -> OK | AC9: =IF(OR($Q$4=リスト!$B$3,$Q$4=リスト!$B$4),IF(M9="","NG","OK"),"-") -> OK | AD9: =IF(OR($Q$4=リスト!$B$3,$Q$4=リスト!$B$4,$Q$4=リスト!$B$5),IF(N9="","NG","OK"),"-") -> OK | AE9: - | AF9: - | AG9: - | AH9: =IF(OR($Q$4=リスト!$B$4,$Q$4=リスト!$B$5,$Q$4=リスト!$B$6),IF(E9<>"","NG","OK"),"-") -> - | AI9: =IF(OR($Q$4=リスト!$B$5,$Q$4=リスト!$B$6),IF(F9<>"","NG","OK"),"-") -> - | AJ9: =IF($Q$4=リスト!$B$6,IF(G9<>"","NG","OK"),"-") -> - | AK9: =IF(OR($Q$4=リスト!$B$4,$Q$4=リスト!$B$5,$Q$4=リスト!$B$6),IF(L9<>"","NG","OK"),"-") -> - | AL9: =IF(OR($Q$4=リスト!$B$5,$Q$4=リスト!$B$6),IF(M9<>"","NG","OK"),"-") -> - | AM9: =IF($Q$4=リスト!$B$6,IF(N9<>"","NG","OK"),"-") -> -
C10: その他の流動資産 | E10: 0 | F10: 0 | G10: 0 | J10: その他の流動負債 | L10: 10000000 | M10: 10000000 | N10: 10000000 | S10: =IF(E10="","-",IFERROR(IF(AND(ISNUMBER(E10),E10=INT(E10),LEN(ABS(E10))<=12),"OK","NG"),"NG")) -> OK | T10: =IF(F10="","-",IFERROR(IF(AND(ISNUMBER(F10),F10=INT(F10),LEN(ABS(F10))<=12),"OK","NG"),"NG")) -> OK | U10: =IF(G10="","-",IFERROR(IF(AND(ISNUMBER(G10),G10=INT(G10),LEN(ABS(G10))<=12),"OK","NG"),"NG")) -> OK | V10: =IF(L10="","-",IFERROR(IF(AND(ISNUMBER(L10),L10=INT(L10),LEN(ABS(L10))<=12),"OK","NG"),"NG")) -> OK | W10: =IF(M10="","-",IFERROR(IF(AND(ISNUMBER(M10),M10=INT(M10),LEN(ABS(M10))<=12),"OK","NG"),"NG")) -> OK | X10: =IF(N10="","-",IFERROR(IF(AND(ISNUMBER(N10),N10=INT(N10),LEN(ABS(N10))<=12),"OK","NG"),"NG")) -> OK | Y10: =IF($Q$4=リスト!$B$3,IF(E10="","NG","OK"),"-") -> OK | Z10: =IF(OR($Q$4=リスト!$B$3,$Q$4=リスト!$B$4),IF(F10="","NG","OK"),"-") -> OK | AA10: =IF(OR($Q$4=リスト!$B$3,$Q$4=リスト!$B$4,$Q$4=リスト!$B$5),IF(G10="","NG","OK"),"-") -> OK | AB10: =IF($Q$4=リスト!$B$3,IF(L10="","NG","OK"),"-") -> OK | AC10: =IF(OR($Q$4=リスト!$B$3,$Q$4=リスト!$B$4),IF(M10="","NG","OK"),"-") -> OK | AD10: =IF(OR($Q$4=リスト!$B$3,$Q$4=リスト!$B$4,$Q$4=リスト!$B$5),IF(N10="","NG","OK"),"-") -> OK | AE10: - | AF10: - | AG10: - | AH10: =IF(OR($Q$4=リスト!$B$4,$Q$4=リスト!$B$5,$Q$4=リスト!$B$6),IF(E10<>"","NG","OK"),"-") -> - | AI10: =IF(OR($Q$4=リスト!$B$5,$Q$4=リスト!$B$6),IF(F10<>"","NG","OK"),"-") -> - | AJ10: =IF($Q$4=リスト!$B$6,IF(G10<>"","NG","OK"),"-") -> - | AK10: =IF(OR($Q$4=リスト!$B$4,$Q$4=リスト!$B$5,$Q$4=リスト!$B$6),IF(L10<>"","NG","OK"),"-") -> - | AL10: =IF(OR($Q$4=リスト!$B$5,$Q$4=リスト!$B$6),IF(M10<>"","NG","OK"),"-") -> - | AM10: =IF($Q$4=リスト!$B$6,IF(N10<>"","NG","OK"),"-") -> -
B11: 固定資産 | E11: =SUM(E12,E16,E18) -> 130000000 | F11: =SUM(F12,F16,F18) -> 133000000 | G11: =SUM(G12,G16,G18) -> 135000000 | I11: 固定負債 | L11: 80000000 | M11: 80000000 | N11: 80000000 | S11: =IF(E11="","-",IFERROR(IF(AND(ISNUMBER(E11),E11=INT(E11),E11>=0,LEN(E11)<=12),"OK","NG"),"NG")) -> OK | T11: =IF(F11="","-",IFERROR(IF(AND(ISNUMBER(F11),F11=INT(F11),F11>=0,LEN(F11)<=12),"OK","NG"),"NG")) -> OK | U11: =IF(G11="","-",IFERROR(IF(AND(ISNUMBER(G11),G11=INT(G11),G11>=0,LEN(G11)<=12),"OK","NG"),"NG")) -> OK | V11: =IF(L11="","-",IFERROR(IF(AND(ISNUMBER(L11),L11=INT(L11),L11>=0,LEN(L11)<=12),"OK","NG"),"NG")) -> OK | W11: =IF(M11="","-",IFERROR(IF(AND(ISNUMBER(M11),M11=INT(M11),M11>=0,LEN(M11)<=12),"OK","NG"),"NG")) -> OK | X11: =IF(N11="","-",IFERROR(IF(AND(ISNUMBER(N11),N11=INT(N11),N11>=0,LEN(N11)<=12),"OK","NG"),"NG")) -> OK | Y11: - | Z11: - | AA11: - | AB11: =IF($Q$4=リスト!$B$3,IF(L11="","NG","OK"),"-") -> OK | AC11: =IF(OR($Q$4=リスト!$B$3,$Q$4=リスト!$B$4),IF(M11="","NG","OK"),"-") -> OK | AD11: =IF(OR($Q$4=リスト!$B$3,$Q$4=リスト!$B$4,$Q$4=リスト!$B$5),IF(N11="","NG","OK"),"-") -> OK | AE11: - | AF11: - | AG11: - | AH11: - | AI11: - | AJ11: - | AK11: =IF(OR($Q$4=リスト!$B$4,$Q$4=リスト!$B$5,$Q$4=リスト!$B$6),IF(L11<>"","NG","OK"),"-") -> - | AL11: =IF(OR($Q$4=リスト!$B$5,$Q$4=リスト!$B$6),IF(M11<>"","NG","OK"),"-") -> - | AM11: =IF($Q$4=リスト!$B$6,IF(N11<>"","NG","OK"),"-") -> -
C12: 有形固定資産 | E12: 110000000 | F12: 113000000 | G12: 115000000 | J12: うち 長期借入金 | L12: 80000000 | M12: 80000000 | N12: 80000000 | S12: =IF(E12="","-",IFERROR(IF(AND(ISNUMBER(E12),E12=INT(E12),LEN(ABS(E12))<=12),"OK","NG"),"NG")) -> OK | T12: =IF(F12="","-",IFERROR(IF(AND(ISNUMBER(F12),F12=INT(F12),LEN(ABS(F12))<=12),"OK","NG"),"NG")) -> OK | U12: =IF(G12="","-",IFERROR(IF(AND(ISNUMBER(G12),G12=INT(G12),LEN(ABS(G12))<=12),"OK","NG"),"NG")) -> OK | V12: =IF(L12="","-",IFERROR(IF(AND(ISNUMBER(L12),L12=INT(L12),LEN(ABS(L12))<=12),"OK","NG"),"NG")) -> OK | W12: =IF(M12="","-",IFERROR(IF(AND(ISNUMBER(M12),M12=INT(M12),LEN(ABS(M12))<=12),"OK","NG"),"NG")) -> OK | X12: =IF(N12="","-",IFERROR(IF(AND(ISNUMBER(N12),N12=INT(N12),LEN(ABS(N12))<=12),"OK","NG"),"NG")) -> OK | Y12: =IF($Q$4=リスト!$B$3,IF(E12="","NG","OK"),"-") -> OK | Z12: =IF(OR($Q$4=リスト!$B$3,$Q$4=リスト!$B$4),IF(F12="","NG","OK"),"-") -> OK | AA12: =IF(OR($Q$4=リスト!$B$3,$Q$4=リスト!$B$4,$Q$4=リスト!$B$5),IF(G12="","NG","OK"),"-") -> OK | AB12: =IF($Q$4=リスト!$B$3,IF(L12="","NG","OK"),"-") -> OK | AC12: =IF(OR($Q$4=リスト!$B$3,$Q$4=リスト!$B$4),IF(M12="","NG","OK"),"-") -> OK | AD12: =IF(OR($Q$4=リスト!$B$3,$Q$4=リスト!$B$4,$Q$4=リスト!$B$5),IF(N12="","NG","OK"),"-") -> OK | AE12: - | AF12: - | AG12: - | AH12: =IF(OR($Q$4=リスト!$B$4,$Q$4=リスト!$B$5,$Q$4=リスト!$B$6),IF(E12<>"","NG","OK"),"-") -> - | AI12: =IF(OR($Q$4=リスト!$B$5,$Q$4=リスト!$B$6),IF(F12<>"","NG","OK"),"-") -> - | AJ12: =IF($Q$4=リスト!$B$6,IF(G12<>"","NG","OK"),"-") -> - | AK12: =IF(OR($Q$4=リスト!$B$4,$Q$4=リスト!$B$5,$Q$4=リスト!$B$6),IF(L12<>"","NG","OK"),"-") -> - | AL12: =IF(OR($Q$4=リスト!$B$5,$Q$4=リスト!$B$6),IF(M12<>"","NG","OK"),"-") -> - | AM12: =IF($Q$4=リスト!$B$6,IF(N12<>"","NG","OK"),"-") -> -
D13: うち 建物及び構築物 | E13: 40000000 | F13: 40000000 | G13: 40000000 | J13: うち 社債 | L13: 0 | M13: 0 | N13: 0 | S13: =IF(E13="","-",IFERROR(IF(AND(ISNUMBER(E13),E13=INT(E13),LEN(ABS(E13))<=12),"OK","NG"),"NG")) -> OK | T13: =IF(F13="","-",IFERROR(IF(AND(ISNUMBER(F13),F13=INT(F13),LEN(ABS(F13))<=12),"OK","NG"),"NG")) -> OK | U13: =IF(G13="","-",IFERROR(IF(AND(ISNUMBER(G13),G13=INT(G13),LEN(ABS(G13))<=12),"OK","NG"),"NG")) -> OK | V13: =IF(L13="","-",IFERROR(IF(AND(ISNUMBER(L13),L13=INT(L13),LEN(ABS(L13))<=12),"OK","NG"),"NG")) -> OK | W13: =IF(M13="","-",IFERROR(IF(AND(ISNUMBER(M13),M13=INT(M13),LEN(ABS(M13))<=12),"OK","NG"),"NG")) -> OK | X13: =IF(N13="","-",IFERROR(IF(AND(ISNUMBER(N13),N13=INT(N13),LEN(ABS(N13))<=12),"OK","NG"),"NG")) -> OK | Y13: =IF($Q$4=リスト!$B$3,IF(E13="","NG","OK"),"-") -> OK | Z13: =IF(OR($Q$4=リスト!$B$3,$Q$4=リスト!$B$4),IF(F13="","NG","OK"),"-") -> OK | AA13: =IF(OR($Q$4=リスト!$B$3,$Q$4=リスト!$B$4,$Q$4=リスト!$B$5),IF(G13="","NG","OK"),"-") -> OK | AB13: =IF($Q$4=リスト!$B$3,IF(L13="","NG","OK"),"-") -> OK | AC13: =IF(OR($Q$4=リスト!$B$3,$Q$4=リスト!$B$4),IF(M13="","NG","OK"),"-") -> OK | AD13: =IF(OR($Q$4=リスト!$B$3,$Q$4=リスト!$B$4,$Q$4=リスト!$B$5),IF(N13="","NG","OK"),"-") -> OK | AE13: - | AF13: - | AG13: - | AH13: =IF(OR($Q$4=リスト!$B$4,$Q$4=リスト!$B$5,$Q$4=リスト!$B$6),IF(E13<>"","NG","OK"),"-") -> - | AI13: =IF(OR($Q$4=リスト!$B$5,$Q$4=リスト!$B$6),IF(F13<>"","NG","OK"),"-") -> - | AJ13: =IF($Q$4=リスト!$B$6,IF(G13<>"","NG","OK"),"-") -> - | AK13: =IF(OR($Q$4=リスト!$B$4,$Q$4=リスト!$B$5,$Q$4=リスト!$B$6),IF(L13<>"","NG","OK"),"-") -> - | AL13: =IF(OR($Q$4=リスト!$B$5,$Q$4=リスト!$B$6),IF(M13<>"","NG","OK"),"-") -> - | AM13: =IF($Q$4=リスト!$B$6,IF(N13<>"","NG","OK"),"-") -> -
D14: うち 機械装置等 | E14: 60000000 | F14: 63000000 | G14: 65000000 | I14: その他(流動負債、固定負債を除くその他の負債) | L14: 0 | M14: 0 | N14: 0 | S14: =IF(E14="","-",IFERROR(IF(AND(ISNUMBER(E14),E14=INT(E14),LEN(ABS(E14))<=12),"OK","NG"),"NG")) -> OK | T14: =IF(F14="","-",IFERROR(IF(AND(ISNUMBER(F14),F14=INT(F14),LEN(ABS(F14))<=12),"OK","NG"),"NG")) -> OK | U14: =IF(G14="","-",IFERROR(IF(AND(ISNUMBER(G14),G14=INT(G14),LEN(ABS(G14))<=12),"OK","NG"),"NG")) -> OK | V14: - | W14: - | X14: - | Y14: =IF($Q$4=リスト!$B$3,IF(E14="","NG","OK"),"-") -> OK | Z14: =IF(OR($Q$4=リスト!$B$3,$Q$4=リスト!$B$4),IF(F14="","NG","OK"),"-") -> OK | AA14: =IF(OR($Q$4=リスト!$B$3,$Q$4=リスト!$B$4,$Q$4=リスト!$B$5),IF(G14="","NG","OK"),"-") -> OK | AB14: - | AC14: - | AD14: - | AE14: - | AF14: - | AG14: - | AH14: =IF(OR($Q$4=リスト!$B$4,$Q$4=リスト!$B$5,$Q$4=リスト!$B$6),IF(E14<>"","NG","OK"),"-") -> - | AI14: =IF(OR($Q$4=リスト!$B$5,$Q$4=リスト!$B$6),IF(F14<>"","NG","OK"),"-") -> - | AJ14: =IF($Q$4=リスト!$B$6,IF(G14<>"","NG","OK"),"-") -> - | AK14: - | AL14: - | AM14: -
D15: うち 土地 | E15: 10000000 | F15: 10000000 | G15: 10000000 | I15: 負債の総合計 | L15: =L5+L11 -> 140000000 | M15: =M5+M11 -> 142000000 | N15: =N5+N11 -> 144000000 | S15: =IF(E15="","-",IFERROR(IF(AND(ISNUMBER(E15),E15=INT(E15),LEN(ABS(E15))<=12),"OK","NG"),"NG")) -> OK | T15: =IF(F15="","-",IFERROR(IF(AND(ISNUMBER(F15),F15=INT(F15),LEN(ABS(F15))<=12),"OK","NG"),"NG")) -> OK | U15: =IF(G15="","-",IFERROR(IF(AND(ISNUMBER(G15),G15=INT(G15),LEN(ABS(G15))<=12),"OK","NG"),"NG")) -> OK | V15: =IF(L15="","-",IFERROR(IF(AND(ISNUMBER(L15),L15=INT(L15),L15>=0,LEN(L15)<=12),"OK","NG"),"NG")) -> OK | W15: =IF(M15="","-",IFERROR(IF(AND(ISNUMBER(M15),M15=INT(M15),M15>=0,LEN(M15)<=12),"OK","NG"),"NG")) -> OK | X15: =IF(N15="","-",IFERROR(IF(AND(ISNUMBER(N15),N15=INT(N15),N15>=0,LEN(N15)<=12),"OK","NG"),"NG")) -> OK | Y15: =IF($Q$4=リスト!$B$3,IF(E15="","NG","OK"),"-") -> OK | Z15: =IF(OR($Q$4=リスト!$B$3,$Q$4=リスト!$B$4),IF(F15="","NG","OK"),"-") -> OK | AA15: =IF(OR($Q$4=リスト!$B$3,$Q$4=リスト!$B$4,$Q$4=リスト!$B$5),IF(G15="","NG","OK"),"-") -> OK | AB15: - | AC15: - | AD15: - | AE15: - | AF15: - | AG15: - | AH15: =IF(OR($Q$4=リスト!$B$4,$Q$4=リスト!$B$5,$Q$4=リスト!$B$6),IF(E15<>"","NG","OK"),"-") -> - | AI15: =IF(OR($Q$4=リスト!$B$5,$Q$4=リスト!$B$6),IF(F15<>"","NG","OK"),"-") -> - | AJ15: =IF($Q$4=リスト!$B$6,IF(G15<>"","NG","OK"),"-") -> - | AK15: - | AL15: - | AM15: -
C16: 無形固定資産 | E16: 5000000 | F16: 5000000 | G16: 5000000 | I16: 純資産の部 | S16: =IF(E16="","-",IFERROR(IF(AND(ISNUMBER(E16),E16=INT(E16),LEN(ABS(E16))<=12),"OK","NG"),"NG")) -> OK | T16: =IF(F16="","-",IFERROR(IF(AND(ISNUMBER(F16),F16=INT(F16),LEN(ABS(F16))<=12),"OK","NG"),"NG")) -> OK | U16: =IF(G16="","-",IFERROR(IF(AND(ISNUMBER(G16),G16=INT(G16),LEN(ABS(G16))<=12),"OK","NG"),"NG")) -> OK | V16: - | W16: - | X16: - | Y16: =IF($Q$4=リスト!$B$3,IF(E16="","NG","OK"),"-") -> OK | Z16: =IF(OR($Q$4=リスト!$B$3,$Q$4=リスト!$B$4),IF(F16="","NG","OK"),"-") -> OK | AA16: =IF(OR($Q$4=リスト!$B$3,$Q$4=リスト!$B$4,$Q$4=リスト!$B$5),IF(G16="","NG","OK"),"-") -> OK | AB16: - | AC16: - | AD16: - | AE16: - | AF16: - | AG16: - | AH16: =IF(OR($Q$4=リスト!$B$4,$Q$4=リスト!$B$5,$Q$4=リスト!$B$6),IF(E16<>"","NG","OK"),"-") -> - | AI16: =IF(OR($Q$4=リスト!$B$5,$Q$4=リスト!$B$6),IF(F16<>"","NG","OK"),"-") -> - | AJ16: =IF($Q$4=リスト!$B$6,IF(G16<>"","NG","OK"),"-") -> - | AK16: - | AL16: - | AM16: -
D17: うち ソフトウェア | E17: 5000000 | F17: 5000000 | G17: 5000000 | I17: 株主資本 | L17: 90000000 | M17: 96000000 | N17: 101000000 | S17: =IF(E17="","-",IFERROR(IF(AND(ISNUMBER(E17),E17=INT(E17),LEN(ABS(E17))<=12),"OK","NG"),"NG")) -> OK | T17: =IF(F17="","-",IFERROR(IF(AND(ISNUMBER(F17),F17=INT(F17),LEN(ABS(F17))<=12),"OK","NG"),"NG")) -> OK | U17: =IF(G17="","-",IFERROR(IF(AND(ISNUMBER(G17),G17=INT(G17),LEN(ABS(G17))<=12),"OK","NG"),"NG")) -> OK | V17: =IF(L17="","-",IFERROR(IF(AND(ISNUMBER(L17),L17=INT(L17),LEN(ABS(L17))<=12),"OK","NG"),"NG")) -> OK | W17: =IF(M17="","-",IFERROR(IF(AND(ISNUMBER(M17),M17=INT(M17),LEN(ABS(M17))<=12),"OK","NG"),"NG")) -> OK | X17: =IF(N17="","-",IFERROR(IF(AND(ISNUMBER(N17),N17=INT(N17),LEN(ABS(N17))<=12),"OK","NG"),"NG")) -> OK | Y17: =IF($Q$4=リスト!$B$3,IF(E17="","NG","OK"),"-") -> OK | Z17: =IF(OR($Q$4=リスト!$B$3,$Q$4=リスト!$B$4),IF(F17="","NG","OK"),"-") -> OK | AA17: =IF(OR($Q$4=リスト!$B$3,$Q$4=リスト!$B$4,$Q$4=リスト!$B$5),IF(G17="","NG","OK"),"-") -> OK | AB17: =IF($Q$4=リスト!$B$3,IF(L17="","NG","OK"),"-") -> OK | AC17: =IF(OR($Q$4=リスト!$B$3,$Q$4=リスト!$B$4),IF(M17="","NG","OK"),"-") -> OK | AD17: =IF(OR($Q$4=リスト!$B$3,$Q$4=リスト!$B$4,$Q$4=リスト!$B$5),IF(N17="","NG","OK"),"-") -> OK | AE17: - | AF17: - | AG17: - | AH17: =IF(OR($Q$4=リスト!$B$4,$Q$4=リスト!$B$5,$Q$4=リスト!$B$6),IF(E17<>"","NG","OK"),"-") -> - | AI17: =IF(OR($Q$4=リスト!$B$5,$Q$4=リスト!$B$6),IF(F17<>"","NG","OK"),"-") -> - | AJ17: =IF($Q$4=リスト!$B$6,IF(G17<>"","NG","OK"),"-") -> - | AK17: =IF(OR($Q$4=リスト!$B$4,$Q$4=リスト!$B$5,$Q$4=リスト!$B$6),IF(L17<>"","NG","OK"),"-") -> - | AL17: =IF(OR($Q$4=リスト!$B$5,$Q$4=リスト!$B$6),IF(M17<>"","NG","OK"),"-") -> - | AM17: =IF($Q$4=リスト!$B$6,IF(N17<>"","NG","OK"),"-") -> -
C18: その他の固定資産 | E18: 15000000 | F18: 15000000 | G18: 15000000 | J18: うち 資本金 | L18: 30000000 | M18: 30000000 | N18: 30000000 | S18: =IF(E18="","-",IFERROR(IF(AND(ISNUMBER(E18),E18=INT(E18),LEN(ABS(E18))<=12),"OK","NG"),"NG")) -> OK | T18: =IF(F18="","-",IFERROR(IF(AND(ISNUMBER(F18),F18=INT(F18),LEN(ABS(F18))<=12),"OK","NG"),"NG")) -> OK | U18: =IF(G18="","-",IFERROR(IF(AND(ISNUMBER(G18),G18=INT(G18),LEN(ABS(G18))<=12),"OK","NG"),"NG")) -> OK | V18: =IF(L18="","-",IFERROR(IF(AND(ISNUMBER(L18),L18=INT(L18),L18>=0,LEN(L18)<=12),"OK","NG"),"NG")) -> OK | W18: =IF(M18="","-",IFERROR(IF(AND(ISNUMBER(M18),M18=INT(M18),M18>=0,LEN(M18)<=12),"OK","NG"),"NG")) -> OK | X18: =IF(N18="","-",IFERROR(IF(AND(ISNUMBER(N18),N18=INT(N18),N18>=0,LEN(N18)<=12),"OK","NG"),"NG")) -> OK | Y18: =IF($Q$4=リスト!$B$3,IF(E18="","NG","OK"),"-") -> OK | Z18: =IF(OR($Q$4=リスト!$B$3,$Q$4=リスト!$B$4),IF(F18="","NG","OK"),"-") -> OK | AA18: =IF(OR($Q$4=リスト!$B$3,$Q$4=リスト!$B$4,$Q$4=リスト!$B$5),IF(G18="","NG","OK"),"-") -> OK | AB18: =IF($Q$4=リスト!$B$3,IF(L18="","NG","OK"),"-") -> OK | AC18: =IF(OR($Q$4=リスト!$B$3,$Q$4=リスト!$B$4),IF(M18="","NG","OK"),"-") -> OK | AD18: =IF(OR($Q$4=リスト!$B$3,$Q$4=リスト!$B$4,$Q$4=リスト!$B$5),IF(N18="","NG","OK"),"-") -> OK | AE18: - | AF18: - | AG18: - | AH18: =IF(OR($Q$4=リスト!$B$4,$Q$4=リスト!$B$5,$Q$4=リスト!$B$6),IF(E18<>"","NG","OK"),"-") -> - | AI18: =IF(OR($Q$4=リスト!$B$5,$Q$4=リスト!$B$6),IF(F18<>"","NG","OK"),"-") -> - | AJ18: =IF($Q$4=リスト!$B$6,IF(G18<>"","NG","OK"),"-") -> - | AK18: =IF(OR($Q$4=リスト!$B$4,$Q$4=リスト!$B$5,$Q$4=リスト!$B$6),IF(L18<>"","NG","OK"),"-") -> - | AL18: =IF(OR($Q$4=リスト!$B$5,$Q$4=リスト!$B$6),IF(M18<>"","NG","OK"),"-") -> - | AM18: =IF($Q$4=リスト!$B$6,IF(N18<>"","NG","OK"),"-") -> -
B19: その他(流動資産、固定資産を除くその他資産) | E19: 0 | F19: 0 | G19: 0 | J19: うち 利益剰余金 | L19: 60000000 | M19: 66000000 | N19: 71000000 | S19: =IF(E19="","-",IFERROR(IF(AND(ISNUMBER(E19),E19=INT(E19),LEN(ABS(E19))<=12),"OK","NG"),"NG")) -> OK | T19: =IF(F19="","-",IFERROR(IF(AND(ISNUMBER(F19),F19=INT(F19),LEN(ABS(F19))<=12),"OK","NG"),"NG")) -> OK | U19: =IF(G19="","-",IFERROR(IF(AND(ISNUMBER(G19),G19=INT(G19),LEN(ABS(G19))<=12),"OK","NG"),"NG")) -> OK | V19: =IF(L19="","-",IFERROR(IF(AND(ISNUMBER(L19),L19=INT(L19),LEN(ABS(L19))<=12),"OK","NG"),"NG")) -> OK | W19: =IF(M19="","-",IFERROR(IF(AND(ISNUMBER(M19),M19=INT(M19),LEN(ABS(M19))<=12),"OK","NG"),"NG")) -> OK | X19: =IF(N19="","-",IFERROR(IF(AND(ISNUMBER(N19),N19=INT(N19),LEN(ABS(N19))<=12),"OK","NG"),"NG")) -> OK | Y19: =IF($Q$4=リスト!$B$3,IF(E19="","NG","OK"),"-") -> OK | Z19: =IF(OR($Q$4=リスト!$B$3,$Q$4=リスト!$B$4),IF(F19="","NG","OK"),"-") -> OK | AA19: =IF(OR($Q$4=リスト!$B$3,$Q$4=リスト!$B$4,$Q$4=リスト!$B$5),IF(G19="","NG","OK"),"-") -> OK | AB19: =IF($Q$4=リスト!$B$3,IF(L19="","NG","OK"),"-") -> OK | AC19: =IF(OR($Q$4=リスト!$B$3,$Q$4=リスト!$B$4),IF(M19="","NG","OK"),"-") -> OK | AD19: =IF(OR($Q$4=リスト!$B$3,$Q$4=リスト!$B$4,$Q$4=リスト!$B$5),IF(N19="","NG","OK"),"-") -> OK | AE19: - | AF19: - | AG19: - | AH19: =IF(OR($Q$4=リスト!$B$4,$Q$4=リスト!$B$5,$Q$4=リスト!$B$6),IF(E19<>"","NG","OK"),"-") -> - | AI19: =IF(OR($Q$4=リスト!$B$5,$Q$4=リスト!$B$6),IF(F19<>"","NG","OK"),"-") -> - | AJ19: =IF($Q$4=リスト!$B$6,IF(G19<>"","NG","OK"),"-") -> - | AK19: =IF(OR($Q$4=リスト!$B$4,$Q$4=リスト!$B$5,$Q$4=リスト!$B$6),IF(L19<>"","NG","OK"),"-") -> - | AL19: =IF(OR($Q$4=リスト!$B$5,$Q$4=リスト!$B$6),IF(M19<>"","NG","OK"),"-") -> - | AM19: =IF($Q$4=リスト!$B$6,IF(N19<>"","NG","OK"),"-") -> -
I20: その他(株主資本を除く純資産) | L20: 0 | M20: 0 | N20: 0 | S20: - | T20: - | U20: - | V20: =IF(L20="","-",IFERROR(IF(AND(ISNUMBER(L20),L20=INT(L20),LEN(ABS(L20))<=12),"OK","NG"),"NG")) -> OK | W20: =IF(M20="","-",IFERROR(IF(AND(ISNUMBER(M20),M20=INT(M20),LEN(ABS(M20))<=12),"OK","NG"),"NG")) -> OK | X20: =IF(N20="","-",IFERROR(IF(AND(ISNUMBER(N20),N20=INT(N20),LEN(ABS(N20))<=12),"OK","NG"),"NG")) -> OK | Y20: - | Z20: - | AA20: - | AB20: =IF($Q$4=リスト!$B$3,IF(L20="","NG","OK"),"-") -> OK | AC20: =IF(OR($Q$4=リスト!$B$3,$Q$4=リスト!$B$4),IF(M20="","NG","OK"),"-") -> OK | AD20: =IF(OR($Q$4=リスト!$B$3,$Q$4=リスト!$B$4,$Q$4=リスト!$B$5),IF(N20="","NG","OK"),"-") -> OK | AE20: - | AF20: - | AG20: - | AH20: - | AI20: - | AJ20: - | AK20: =IF(OR($Q$4=リスト!$B$4,$Q$4=リスト!$B$5,$Q$4=リスト!$B$6),IF(L20<>"","NG","OK"),"-") -> - | AL20: =IF(OR($Q$4=リスト!$B$5,$Q$4=リスト!$B$6),IF(M20<>"","NG","OK"),"-") -> - | AM20: =IF($Q$4=リスト!$B$6,IF(N20<>"","NG","OK"),"-") -> -
I21: 純資産の総合計 | L21: =SUM(L17,L20) -> 90000000 | M21: =SUM(M17,M20) -> 96000000 | N21: =SUM(N17,N20) -> 101000000 | S21: - | T21: - | U21: - | V21: =IF(L21="","-",IFERROR(IF(AND(ISNUMBER(L21),L21=INT(L21),LEN(ABS(L21))<=12),"OK","NG"),"NG")) -> OK | W21: =IF(M21="","-",IFERROR(IF(AND(ISNUMBER(M21),M21=INT(M21),LEN(ABS(M21))<=12),"OK","NG"),"NG")) -> OK | X21: =IF(N21="","-",IFERROR(IF(AND(ISNUMBER(N21),N21=INT(N21),LEN(ABS(N21))<=12),"OK","NG"),"NG")) -> OK | Y21: - | Z21: - | AA21: - | AB21: - | AC21: - | AD21: - | AE21: - | AF21: - | AG21: - | AH21: - | AI21: - | AJ21: - | AK21: - | AL21: - | AM21: -
B22: 資産の総合計 | E22: =SUM(E5,E11,E19) -> 230000000 | F22: =SUM(F5,F11,F19) -> 238000000 | G22: =SUM(G5,G11,G19) -> 245000000 | I22: 負債・純資産の総合計 | L22: =SUM(L15,L21) -> 230000000 | M22: =SUM(M15,M21) -> 238000000 | N22: =SUM(N15,N21) -> 245000000 | S22: =IF(E22="","-",IFERROR(IF(AND(ISNUMBER(E22),E22=INT(E22),E22>=0,LEN(E22)<=12),"OK","NG"),"NG")) -> OK | T22: =IF(F22="","-",IFERROR(IF(AND(ISNUMBER(F22),F22=INT(F22),F22>=0,LEN(F22)<=12),"OK","NG"),"NG")) -> OK | U22: =IF(G22="","-",IFERROR(IF(AND(ISNUMBER(G22),G22=INT(G22),G22>=0,LEN(G22)<=12),"OK","NG"),"NG")) -> OK | V22: =IF(L22="","-",IFERROR(IF(AND(ISNUMBER(L22),L22=INT(L22),L22>=0,LEN(L22)<=12),"OK","NG"),"NG")) -> OK | W22: =IF(M22="","-",IFERROR(IF(AND(ISNUMBER(M22),M22=INT(M22),M22>=0,LEN(M22)<=12),"OK","NG"),"NG")) -> OK | X22: =IF(N22="","-",IFERROR(IF(AND(ISNUMBER(N22),N22=INT(N22),N22>=0,LEN(N22)<=12),"OK","NG"),"NG")) -> OK | Y22: - | Z22: - | AA22: - | AB22: - | AC22: - | AD22: - | AE22: =IF(E22<>L22,"NG","OK") -> OK | AF22: =IF(F22<>M22,"NG","OK") -> OK | AG22: =IF(G22<>N22,"NG","OK") -> OK | AH22: - | AI22: - | AJ22: - | AK22: - | AL22: - | AM22: -
B24: *1 | D24: 受取手形には、割引手形を含めた金額を入力してください。
B25: *2 | D25: 支払手形には、設備支払手形は含めません。

Sheet PL損益計算書・収益計画
E2: 直近の事業年度の 2期前 | F2: 直近の事業年度の 1期前 | G2: 直近の事業年度 | H2: 申請時の事業年度 | I2: 補助事業終了年度 (基準年度) | J2: 1年度目 | K2: 2年度目 | L2: 3年度目 | M2: 4年度目 | N2: 5年度目 | P2: 補助対象事業枠 | Q2: =IF(BS貸借対照表!$Q$3="","",BS貸借対照表!$Q$3) -> 革新的新製品・サービス枠 | S2: 形式 チェック | W2: 必須 チェック | AA2: 不要箇所 チェック
B3: 金額項目の単位：円 | E3: 45382 | F3: 45747 | G3: 46112 | H3: 46477 | I3: 46843 | J3: =IF($I$3<>"",EDATE($I$3,12),"") -> 47208 | K3: =IF($I$3<>"",EDATE($I$3,24),"") -> 47573 | L3: =IF($I$3<>"",EDATE($I$3,36),"") -> 47938 | M3: =IF($I$3<>"",EDATE($I$3,48),"") -> 48304 | N3: =IF($I$3<>"",EDATE($I$3,60),"") -> 48669 | P3: 決算書等の提出可能期数 | Q3: =IF(BS貸借対照表!$Q$4="","",BS貸借対照表!$Q$4) -> 3期分 | S3: - | T3: - | U3: - | V3: - | W3: =IF($Q$3=リスト!$B$3,IF(OR($E3="",$F3="",$G3=""),"NG","OK"),IF($Q$3=リスト!$B$4,IF(OR($F3="",$G3=""),"NG","OK"),IF($Q$3=リスト!$B$5,IF($G3="","NG","OK"),"-"))) -> OK | X3: =IF(H3="","NG","OK") -> OK | Y3: =IF(I3="","NG","OK") -> OK | Z3: =IF(OR($Q$5="",$Q$6=""),"NG","OK") -> OK | AA3: =IF($Q$3=リスト!$B$4,IF($E3<>"","NG","OK"),IF($Q$3=リスト!$B$5,IF(OR($E3<>"",$F3<>""),"NG","OK"),IF($Q$3=リスト!$B$6,IF(OR($E3<>"",$F3<>"",$G3<>""),"NG","OK"),"-"))) -> -
B4: PL損益計算書 | P4: (直近の事業年度) 決算期間の月数 | Q4: =IF(BS貸借対照表!$Q$5="","",BS貸借対照表!$Q$5) -> 12か月 | S4: - | T4: - | U4: - | V4: - | W4: - | X4: - | Y4: - | Z4: - | AA4: =IF($Q$3=リスト!$B$4,IF(COUNTA(E6,E9,E11:E12,E18,E20,E22:E23,E29:E30,E32:E33,E35,E46:E51,E56:E60)>0,"NG","OK"),IF($Q$3=リスト!$B$5,IF(COUNTA(E6:F6,E9:F9,E11:F12,E18:F18,E20:F20,E22:F23,E29:F30,E32:F33,E35:F35,E46:F51,E56:F60)>0,"NG","OK"),IF($Q$3=リスト!$B$6,IF(COUNTA(E6:G6,E9:G9,E11:G12,E18:G18,E20:G20,E22:G23,E29:G30,E32:G33,E35:G35,E46:G51,E56:G60)>0,"NG","OK"),"-"))) -> -
B5: 売上高 | E5: =E6+E7 -> 380000000 | F5: =F6+F7 -> 390000000 | G5: =G6+G7 -> 400000000 | H5: =H6+H7 -> 400000000 | I5: =I6+I7 -> 400000000 | J5: =J6+J7 -> 414400000 | K5: =K6+K7 -> 425920000 | L5: =L6+L7 -> 443200000 | ... N5: =N6+N7 -> 0 | P5: 事業計画期間 | Q5: 3年間 | S5: =IF($Q$3=リスト!$B$3,IFERROR(IF(AND(ISNUMBER(E5),E5=INT(E5),E5>=0,LEN(E5)<=12,ISNUMBER(F5),F5=INT(F5),F5>=0,LEN(F5)<=12,ISNUMBER(G5),G5=INT(G5),G5>=0,LEN(G5)<=12),"OK","NG"),"NG"),IF($Q$3=リスト!$B$4,IFERROR(IF(AND(ISNUMBER(F5),F5=INT(F5),F5>=0,LEN(F5)<=12,ISNUMBER(G5),G5=INT(G5),G5>=0,LEN(G5)<=12),"OK","NG"),"NG"),IF($Q$3=リスト!$B$5,IFERROR(IF(AND(ISNUMBER(G5),G5=INT(G5),G5>=0,LEN(G5)<=12),"OK","NG"),"NG"),"-"))) -> OK | T5: =IFERROR(IF(AND(ISNUMBER(H5),H5=INT(H5),H5>=0,LEN(H5)<=12),"OK","NG"),"NG") -> OK | U5: =IFERROR(IF(AND(ISNUMBER(I5),I5=INT(I5),I5>=0,LEN(I5)<=12),"OK","NG"),"NG") -> OK | V5: =IFERROR(IF($Q$5=リスト!$J$3,IF(AND(ISNUMBER(J5),J5=INT(J5),J5>=0,LEN(J5)<=12,ISNUMBER(K5),K5=INT(K5),K5>=0,LEN(K5)<=12,ISNUMBER(L5),L5=INT(L5),L5>=0,LEN(L5)<=12),"OK","NG"),IF($Q$5=リスト!$J$4,IF(AND(ISNUMBER(J5),J5=INT(J5),J5>=0,LEN(J5)<=12,ISNUMBER(K5),K5=INT(K5),K5>=0,LEN(K5)<=12,ISNUMBER(L5),L5=INT(L5),L5>=0,LEN(L5)<=12,ISNUMBER(M5),M5=INT(M5),M5>=0,LEN(M5)<=12),"OK","NG"),IF($Q$5=リスト!$J$5,IF(AND(ISNUMBER(J5),J5=INT(J5),J5>=0,LEN(J5)<=12,ISNUMBER(K5),K5=INT(K5),K5>=0,LEN(K5)<=12,ISNUMBER(L5),L5=INT(L5),L5>=0,LEN(L5)<=12,ISNUMBER(M5),M5=INT(M5),M5>=0,LEN(M5)<=12,ISNUMBER(N5),N5=INT(N5),N5>=0,LEN(N5)<=12),"OK","NG"),"NG"))),"NG") -> OK | W5: - | X5: - | Y5: - | Z5: - | AA5: =IF($Q$5=リスト!$J$3,IF(COUNTA(M6:N7,M9:N9,M11:N14,M18:N18,M20:N20,M22:N25,M29:N30,M46:N49,M51:N52,M56:N56)>0,"NG","OK"),IF($Q$5=リスト!$J$4,IF(COUNTA(N6:N7,N9,N11:N14,N18,N20,N22:N25,N29:N30,N46:N49,N51:N52,N56)>0,"NG","OK"),"-")) -> OK
C6: 既存事業の売上高 | E6: 380000000 | F6: 390000000 | G6: 400000000 | H6: 400000000 | I6: 400000000 | J6: 400000000 | K6: 400000000 | L6: 400000000 | P6: 賃上げ特例要件 適用有無 | Q6: 適用しない | S6: =IF($Q$3=リスト!$B$3,IFERROR(IF(AND(ISNUMBER(E6),E6=INT(E6),E6>=0,LEN(E6)<=12,ISNUMBER(F6),F6=INT(F6),F6>=0,LEN(F6)<=12,ISNUMBER(G6),G6=INT(G6),G6>=0,LEN(G6)<=12),"OK","NG"),"NG"),IF($Q$3=リスト!$B$4,IFERROR(IF(AND(ISNUMBER(F6),F6=INT(F6),F6>=0,LEN(F6)<=12,ISNUMBER(G6),G6=INT(G6),G6>=0,LEN(G6)<=12),"OK","NG"),"NG"),IF($Q$3=リスト!$B$5,IFERROR(IF(AND(ISNUMBER(G6),G6=INT(G6),G6>=0,LEN(G6)<=12),"OK","NG"),"NG"),"-"))) -> OK | T6: =IFERROR(IF(AND(ISNUMBER(H6),H6=INT(H6),H6>=0,LEN(H6)<=12),"OK","NG"),"NG") -> OK | U6: =IFERROR(IF(AND(ISNUMBER(I6),I6=INT(I6),I6>=0,LEN(I6)<=12),"OK","NG"),"NG") -> OK | V6: =IFERROR(IF($Q$5=リスト!$J$3,IF(AND(ISNUMBER(J6),J6=INT(J6),J6>=0,LEN(J6)<=12,ISNUMBER(K6),K6=INT(K6),K6>=0,LEN(K6)<=12,ISNUMBER(L6),L6=INT(L6),L6>=0,LEN(L6)<=12),"OK","NG"),IF($Q$5=リスト!$J$4,IF(AND(ISNUMBER(J6),J6=INT(J6),J6>=0,LEN(J6)<=12,ISNUMBER(K6),K6=INT(K6),K6>=0,LEN(K6)<=12,ISNUMBER(L6),L6=INT(L6),L6>=0,LEN(L6)<=12,ISNUMBER(M6),M6=INT(M6),M6>=0,LEN(M6)<=12),"OK","NG"),IF($Q$5=リスト!$J$5,IF(AND(ISNUMBER(J6),J6=INT(J6),J6>=0,LEN(J6)<=12,ISNUMBER(K6),K6=INT(K6),K6>=0,LEN(K6)<=12,ISNUMBER(L6),L6=INT(L6),L6>=0,LEN(L6)<=12,ISNUMBER(M6),M6=INT(M6),M6>=0,LEN(M6)<=12,ISNUMBER(N6),N6=INT(N6),N6>=0,LEN(N6)<=12),"OK","NG"),"NG"))),"NG") -> OK | W6: =IF($Q$3=リスト!$B$3,IF(OR($E6="",$F6="",$G6=""),"NG","OK"),IF($Q$3=リスト!$B$4,IF(OR($F6="",$G6=""),"NG","OK"),IF($Q$3=リスト!$B$5,IF($G6="","NG","OK"),"-"))) -> OK | X6: =IF(H6="","NG","OK") -> OK | Y6: =IF(I6="","NG","OK") -> OK | Z6: =IF($Q$5=リスト!$J$3,IF(COUNTA($J6:$L6)<3,"NG","OK"),IF($Q$5=リスト!$J$4,IF(COUNTA($J6:$M6)<4,"NG","OK"),IF($Q$5=リスト!$J$5,IF(COUNTA($J6:$N6)<5,"NG","OK"),"NG"))) -> OK | AA6: -
C7: 補助事業の売上高 | E7: 0 | F7: 0 | G7: 0 | H7: 0 | I7: 0 | J7: 14400000 | K7: 25920000 | L7: 43200000 | S7: - | T7: - | U7: =IFERROR(IF(AND(ISNUMBER(I7),I7=INT(I7),I7>=0,LEN(I7)<=12),"OK","NG"),"NG") -> OK | V7: =IFERROR(IF($Q$5=リスト!$J$3,IF(AND(ISNUMBER(J7),J7=INT(J7),J7>=0,LEN(J7)<=12,ISNUMBER(K7),K7=INT(K7),K7>=0,LEN(K7)<=12,ISNUMBER(L7),L7=INT(L7),L7>=0,LEN(L7)<=12),"OK","NG"),IF($Q$5=リスト!$J$4,IF(AND(ISNUMBER(J7),J7=INT(J7),J7>=0,LEN(J7)<=12,ISNUMBER(K7),K7=INT(K7),K7>=0,LEN(K7)<=12,ISNUMBER(L7),L7=INT(L7),L7>=0,LEN(L7)<=12,ISNUMBER(M7),M7=INT(M7),M7>=0,LEN(M7)<=12),"OK","NG"),IF($Q$5=リスト!$J$5,IF(AND(ISNUMBER(J7),J7=INT(J7),J7>=0,LEN(J7)<=12,ISNUMBER(K7),K7=INT(K7),K7>=0,LEN(K7)<=12,ISNUMBER(L7),L7=INT(L7),L7>=0,LEN(L7)<=12,ISNUMBER(M7),M7=INT(M7),M7>=0,LEN(M7)<=12,ISNUMBER(N7),N7=INT(N7),N7>=0,LEN(N7)<=12),"OK","NG"),"NG"))),"NG") -> OK | W7: - | X7: - | Y7: =IF($I7="","NG","OK") -> OK | Z7: =IF($Q$5=リスト!$J$3,IF(COUNTA($J7:$L7)<3,"NG","OK"),IF($Q$5=リスト!$J$4,IF(COUNTA($J7:$M7)<4,"NG","OK"),IF($Q$5=リスト!$J$5,IF(COUNTA($J7:$N7)<5,"NG","OK"),"NG"))) -> OK | AA7: -
B8: 売上原価 | E8: =E11+E13 -> 285000000 | F8: =F11+F13 -> 292500000 | G8: =G11+G13 -> 300000000 | H8: =H11+H13 -> 300000000 | I8: =I11+I13 -> 300000000 | J8: =J11+J13 -> 304320000 | K8: =K11+K13 -> 307776000 | L8: =L11+L13 -> 312960000 | ... N8: =N11+N13 -> 0 | P8: 提出可否 | Q8: =IF(COUNTIF(S3:AA60,"NG")+COUNTIF(Q11:Q13,"NG")>0,"NG","OK") -> OK | S8: =IF($Q$3=リスト!$B$3,IFERROR(IF(AND(ISNUMBER(E8),E8=INT(E8),E8>=0,LEN(E8)<=12,ISNUMBER(F8),F8=INT(F8),F8>=0,LEN(F8)<=12,ISNUMBER(G8),G8=INT(G8),G8>=0,LEN(G8)<=12),"OK","NG"),"NG"),IF($Q$3=リスト!$B$4,IFERROR(IF(AND(ISNUMBER(F8),F8=INT(F8),F8>=0,LEN(F8)<=12,ISNUMBER(G8),G8=INT(G8),G8>=0,LEN(G8)<=12),"OK","NG"),"NG"),IF($Q$3=リスト!$B$5,IFERROR(IF(AND(ISNUMBER(G8),G8=INT(G8),G8>=0,LEN(G8)<=12),"OK","NG"),"NG"),"-"))) -> OK | T8: =IFERROR(IF(AND(ISNUMBER(H8),H8=INT(H8),H8>=0,LEN(H8)<=12),"OK","NG"),"NG") -> OK | U8: =IFERROR(IF(AND(ISNUMBER(I8),I8=INT(I8),I8>=0,LEN(I8)<=12),"OK","NG"),"NG") -> OK | V8: =IFERROR(IF($Q$5=リスト!$J$3,IF(AND(ISNUMBER(J8),J8=INT(J8),J8>=0,LEN(J8)<=12,ISNUMBER(K8),K8=INT(K8),K8>=0,LEN(K8)<=12,ISNUMBER(L8),L8=INT(L8),L8>=0,LEN(L8)<=12),"OK","NG"),IF($Q$5=リスト!$J$4,IF(AND(ISNUMBER(J8),J8=INT(J8),J8>=0,LEN(J8)<=12,ISNUMBER(K8),K8=INT(K8),K8>=0,LEN(K8)<=12,ISNUMBER(L8),L8=INT(L8),L8>=0,LEN(L8)<=12,ISNUMBER(M8),M8=INT(M8),M8>=0,LEN(M8)<=12),"OK","NG"),IF($Q$5=リスト!$J$5,IF(AND(ISNUMBER(J8),J8=INT(J8),J8>=0,LEN(J8)<=12,ISNUMBER(K8),K8=INT(K8),K8>=0,LEN(K8)<=12,ISNUMBER(L8),L8=INT(L8),L8>=0,LEN(L8)<=12,ISNUMBER(M8),M8=INT(M8),M8>=0,LEN(M8)<=12,ISNUMBER(N8),N8=INT(N8),N8>=0,LEN(N8)<=12),"OK","NG"),"NG"))),"NG") -> OK | W8: - | X8: - | Y8: - | Z8: - | AA8: -
C9: うち 労務費*1 | E9: 0 | F9: 0 | G9: 0 | H9: 0 | I9: 0 | J9: 0 | K9: 0 | L9: 0 | P9: =IF($Q$8="NG","※「はじめに」シートの3.②.❻,❼をご確認の上、入力内容に誤りがないかをご確認ください。","") | S9: =IF($Q$3=リスト!$B$3,IFERROR(IF(AND(ISNUMBER(E9),E9=INT(E9),E9>=0,LEN(E9)<=12,ISNUMBER(F9),F9=INT(F9),F9>=0,LEN(F9)<=12,ISNUMBER(G9),G9=INT(G9),G9>=0,LEN(G9)<=12),"OK","NG"),"NG"),IF($Q$3=リスト!$B$4,IFERROR(IF(AND(ISNUMBER(F9),F9=INT(F9),F9>=0,LEN(F9)<=12,ISNUMBER(G9),G9=INT(G9),G9>=0,LEN(G9)<=12),"OK","NG"),"NG"),IF($Q$3=リスト!$B$5,IFERROR(IF(AND(ISNUMBER(G9),G9=INT(G9),G9>=0,LEN(G9)<=12),"OK","NG"),"NG"),"-"))) -> OK | T9: =IFERROR(IF(AND(ISNUMBER(H9),H9=INT(H9),H9>=0,LEN(H9)<=12),"OK","NG"),"NG") -> OK | U9: =IFERROR(IF(AND(ISNUMBER(I9),I9=INT(I9),I9>=0,LEN(I9)<=12),"OK","NG"),"NG") -> OK | V9: =IFERROR(IF($Q$5=リスト!$J$3,IF(AND(ISNUMBER(J9),J9=INT(J9),J9>=0,LEN(J9)<=12,ISNUMBER(K9),K9=INT(K9),K9>=0,LEN(K9)<=12,ISNUMBER(L9),L9=INT(L9),L9>=0,LEN(L9)<=12),"OK","NG"),IF($Q$5=リスト!$J$4,IF(AND(ISNUMBER(J9),J9=INT(J9),J9>=0,LEN(J9)<=12,ISNUMBER(K9),K9=INT(K9),K9>=0,LEN(K9)<=12,ISNUMBER(L9),L9=INT(L9),L9>=0,LEN(L9)<=12,ISNUMBER(M9),M9=INT(M9),M9>=0,LEN(M9)<=12),"OK","NG"),IF($Q$5=リスト!$J$5,IF(AND(ISNUMBER(J9),J9=INT(J9),J9>=0,LEN(J9)<=12,ISNUMBER(K9),K9=INT(K9),K9>=0,LEN(K9)<=12,ISNUMBER(L9),L9=INT(L9),L9>=0,LEN(L9)<=12,ISNUMBER(M9),M9=INT(M9),M9>=0,LEN(M9)<=12,ISNUMBER(N9),N9=INT(N9),N9>=0,LEN(N9)<=12),"OK","NG"),"NG"))),"NG") -> OK | W9: =IF($Q$3=リスト!$B$3,IF(OR($E9="",$F9="",$G9=""),"NG","OK"),IF($Q$3=リスト!$B$4,IF(OR($F9="",$G9=""),"NG","OK"),IF($Q$3=リスト!$B$5,IF($G9="","NG","OK"),"-"))) -> OK | X9: =IF(H9="","NG","OK") -> OK | Y9: =IF(I9="","NG","OK") -> OK | Z9: =IF($Q$5=リスト!$J$3,IF(COUNTA($J9:$L9)<3,"NG","OK"),IF($Q$5=リスト!$J$4,IF(COUNTA($J9:$M9)<4,"NG","OK"),IF($Q$5=リスト!$J$5,IF(COUNTA($J9:$N9)<5,"NG","OK"),"NG"))) -> OK | AA9: -
C10: うち 減価償却費 | E10: =E12+E14 -> 0 | F10: =F12+F14 -> 0 | G10: =G12+G14 -> 0 | H10: =H12+H14 -> 0 | I10: =I12+I14 -> 0 | J10: =J12+J14 -> 0 | K10: =K12+K14 -> 0 | L10: =L12+L14 -> 0 | ... N10: =N12+N14 -> 0 | S10: =IF($Q$3=リスト!$B$3,IFERROR(IF(AND(ISNUMBER(E10),E10=INT(E10),E10>=0,LEN(E10)<=12,ISNUMBER(F10),F10=INT(F10),F10>=0,LEN(F10)<=12,ISNUMBER(G10),G10=INT(G10),G10>=0,LEN(G10)<=12),"OK","NG"),"NG"),IF($Q$3=リスト!$B$4,IFERROR(IF(AND(ISNUMBER(F10),F10=INT(F10),F10>=0,LEN(F10)<=12,ISNUMBER(G10),G10=INT(G10),G10>=0,LEN(G10)<=12),"OK","NG"),"NG"),IF($Q$3=リスト!$B$5,IFERROR(IF(AND(ISNUMBER(G10),G10=INT(G10),G10>=0,LEN(G10)<=12),"OK","NG"),"NG"),"-"))) -> OK | T10: =IFERROR(IF(AND(ISNUMBER(H10),H10=INT(H10),H10>=0,LEN(H10)<=12),"OK","NG"),"NG") -> OK | U10: =IFERROR(IF(AND(ISNUMBER(I10),I10=INT(I10),I10>=0,LEN(I10)<=12),"OK","NG"),"NG") -> OK | V10: =IFERROR(IF($Q$5=リスト!$J$3,IF(AND(ISNUMBER(J10),J10=INT(J10),J10>=0,LEN(J10)<=12,ISNUMBER(K10),K10=INT(K10),K10>=0,LEN(K10)<=12,ISNUMBER(L10),L10=INT(L10),L10>=0,LEN(L10)<=12),"OK","NG"),IF($Q$5=リスト!$J$4,IF(AND(ISNUMBER(J10),J10=INT(J10),J10>=0,LEN(J10)<=12,ISNUMBER(K10),K10=INT(K10),K10>=0,LEN(K10)<=12,ISNUMBER(L10),L10=INT(L10),L10>=0,LEN(L10)<=12,ISNUMBER(M10),M10=INT(M10),M10>=0,LEN(M10)<=12),"OK","NG"),IF($Q$5=リスト!$J$5,IF(AND(ISNUMBER(J10),J10=INT(J10),J10>=0,LEN(J10)<=12,ISNUMBER(K10),K10=INT(K10),K10>=0,LEN(K10)<=12,ISNUMBER(L10),L10=INT(L10),L10>=0,LEN(L10)<=12,ISNUMBER(M10),M10=INT(M10),M10>=0,LEN(M10)<=12,ISNUMBER(N10),N10=INT(N10),N10>=0,LEN(N10)<=12),"OK","NG"),"NG"))),"NG") -> OK | W10: - | X10: - | Y10: - | Z10: - | AA10: -
C11: 既存事業の売上原価 | E11: 285000000 | F11: 292500000 | G11: 300000000 | H11: 300000000 | I11: 300000000 | J11: 300000000 | K11: 300000000 | L11: 300000000 | P11: 賃上げ要件 | Q11: =IF(Q5="","",IF(CHOOSE(MATCH(Q5,{"3年間","4年間","5年間"},0),L54,M54,N54)>=3.5,"OK","NG")) -> OK | S11: =IF($Q$3=リスト!$B$3,IFERROR(IF(AND(ISNUMBER(E11),E11=INT(E11),E11>=0,LEN(E11)<=12,ISNUMBER(F11),F11=INT(F11),F11>=0,LEN(F11)<=12,ISNUMBER(G11),G11=INT(G11),G11>=0,LEN(G11)<=12),"OK","NG"),"NG"),IF($Q$3=リスト!$B$4,IFERROR(IF(AND(ISNUMBER(F11),F11=INT(F11),F11>=0,LEN(F11)<=12,ISNUMBER(G11),G11=INT(G11),G11>=0,LEN(G11)<=12),"OK","NG"),"NG"),IF($Q$3=リスト!$B$5,IFERROR(IF(AND(ISNUMBER(G11),G11=INT(G11),G11>=0,LEN(G11)<=12),"OK","NG"),"NG"),"-"))) -> OK | T11: =IFERROR(IF(AND(ISNUMBER(H11),H11=INT(H11),H11>=0,LEN(H11)<=12),"OK","NG"),"NG") -> OK | U11: =IFERROR(IF(AND(ISNUMBER(I11),I11=INT(I11),I11>=0,LEN(I11)<=12),"OK","NG"),"NG") -> OK | V11: =IFERROR(IF($Q$5=リスト!$J$3,IF(AND(ISNUMBER(J11),J11=INT(J11),J11>=0,LEN(J11)<=12,ISNUMBER(K11),K11=INT(K11),K11>=0,LEN(K11)<=12,ISNUMBER(L11),L11=INT(L11),L11>=0,LEN(L11)<=12),"OK","NG"),IF($Q$5=リスト!$J$4,IF(AND(ISNUMBER(J11),J11=INT(J11),J11>=0,LEN(J11)<=12,ISNUMBER(K11),K11=INT(K11),K11>=0,LEN(K11)<=12,ISNUMBER(L11),L11=INT(L11),L11>=0,LEN(L11)<=12,ISNUMBER(M11),M11=INT(M11),M11>=0,LEN(M11)<=12),"OK","NG"),IF($Q$5=リスト!$J$5,IF(AND(ISNUMBER(J11),J11=INT(J11),J11>=0,LEN(J11)<=12,ISNUMBER(K11),K11=INT(K11),K11>=0,LEN(K11)<=12,ISNUMBER(L11),L11=INT(L11),L11>=0,LEN(L11)<=12,ISNUMBER(M11),M11=INT(M11),M11>=0,LEN(M11)<=12,ISNUMBER(N11),N11=INT(N11),N11>=0,LEN(N11)<=12),"OK","NG"),"NG"))),"NG") -> OK | W11: =IF($Q$3=リスト!$B$3,IF(OR($E11="",$F11="",$G11=""),"NG","OK"),IF($Q$3=リスト!$B$4,IF(OR($F11="",$G11=""),"NG","OK"),IF($Q$3=リスト!$B$5,IF($G11="","NG","OK"),"-"))) -> OK | X11: =IF(H11="","NG","OK") -> OK | Y11: =IF(I11="","NG","OK") -> OK | Z11: =IF($Q$5=リスト!$J$3,IF(COUNTA($J11:$L11)<3,"NG","OK"),IF($Q$5=リスト!$J$4,IF(COUNTA($J11:$M11)<4,"NG","OK"),IF($Q$5=リスト!$J$5,IF(COUNTA($J11:$N11)<5,"NG","OK"),"NG"))) -> OK | AA11: -
D12: うち 既存事業の減価償却費 | E12: 0 | F12: 0 | G12: 0 | H12: 0 | I12: 0 | J12: 0 | K12: 0 | L12: 0 | P12: 付加価値額要件 | Q12: =IF(Q5="","",IF(CHOOSE(MATCH(Q5,{"3年間","4年間","5年間"},0),L44,M44,N44)>=4,"OK","NG")) -> OK | S12: =IF($Q$3=リスト!$B$3,IFERROR(IF(AND(ISNUMBER(E12),E12=INT(E12),E12>=0,LEN(E12)<=12,ISNUMBER(F12),F12=INT(F12),F12>=0,LEN(F12)<=12,ISNUMBER(G12),G12=INT(G12),G12>=0,LEN(G12)<=12),"OK","NG"),"NG"),IF($Q$3=リスト!$B$4,IFERROR(IF(AND(ISNUMBER(F12),F12=INT(F12),F12>=0,LEN(F12)<=12,ISNUMBER(G12),G12=INT(G12),G12>=0,LEN(G12)<=12),"OK","NG"),"NG"),IF($Q$3=リスト!$B$5,IFERROR(IF(AND(ISNUMBER(G12),G12=INT(G12),G12>=0,LEN(G12)<=12),"OK","NG"),"NG"),"-"))) -> OK | T12: =IFERROR(IF(AND(ISNUMBER(H12),H12=INT(H12),H12>=0,LEN(H12)<=12),"OK","NG"),"NG") -> OK | U12: =IFERROR(IF(AND(ISNUMBER(I12),I12=INT(I12),I12>=0,LEN(I12)<=12),"OK","NG"),"NG") -> OK | V12: =IFERROR(IF($Q$5=リスト!$J$3,IF(AND(ISNUMBER(J12),J12=INT(J12),J12>=0,LEN(J12)<=12,ISNUMBER(K12),K12=INT(K12),K12>=0,LEN(K12)<=12,ISNUMBER(L12),L12=INT(L12),L12>=0,LEN(L12)<=12),"OK","NG"),IF($Q$5=リスト!$J$4,IF(AND(ISNUMBER(J12),J12=INT(J12),J12>=0,LEN(J12)<=12,ISNUMBER(K12),K12=INT(K12),K12>=0,LEN(K12)<=12,ISNUMBER(L12),L12=INT(L12),L12>=0,LEN(L12)<=12,ISNUMBER(M12),M12=INT(M12),M12>=0,LEN(M12)<=12),"OK","NG"),IF($Q$5=リスト!$J$5,IF(AND(ISNUMBER(J12),J12=INT(J12),J12>=0,LEN(J12)<=12,ISNUMBER(K12),K12=INT(K12),K12>=0,LEN(K12)<=12,ISNUMBER(L12),L12=INT(L12),L12>=0,LEN(L12)<=12,ISNUMBER(M12),M12=INT(M12),M12>=0,LEN(M12)<=12,ISNUMBER(N12),N12=INT(N12),N12>=0,LEN(N12)<=12),"OK","NG"),"NG"))),"NG") -> OK | W12: =IF($Q$3=リスト!$B$3,IF(OR($E12="",$F12="",$G12=""),"NG","OK"),IF($Q$3=リスト!$B$4,IF(OR($F12="",$G12=""),"NG","OK"),IF($Q$3=リスト!$B$5,IF($G12="","NG","OK"),"-"))) -> OK | X12: =IF(H12="","NG","OK") -> OK | Y12: =IF(I12="","NG","OK") -> OK | Z12: =IF($Q$5=リスト!$J$3,IF(COUNTA($J12:$L12)<3,"NG","OK"),IF($Q$5=リスト!$J$4,IF(COUNTA($J12:$M12)<4,"NG","OK"),IF($Q$5=リスト!$J$5,IF(COUNTA($J12:$N12)<5,"NG","OK"),"NG"))) -> OK | AA12: -
C13: 補助事業の売上原価 | E13: 0 | F13: 0 | G13: 0 | H13: 0 | I13: 0 | J13: 4320000 | K13: 7776000 | L13: 12960000 | P13: 賃上げ特例要件 | Q13: =IF(OR(Q5="",Q6=""),"",IF(Q6=リスト!I4,"-",IF(CHOOSE(MATCH(Q5,{"3年間","4年間","5年間"},0),L54,M54,N54)>=6,"OK","NG"))) -> - | S13: - | T13: - | U13: =IFERROR(IF(AND(ISNUMBER(I13),I13=INT(I13),I13>=0,LEN(I13)<=12),"OK","NG"),"NG") -> OK | V13: =IFERROR(IF($Q$5=リスト!$J$3,IF(AND(ISNUMBER(J13),J13=INT(J13),J13>=0,LEN(J13)<=12,ISNUMBER(K13),K13=INT(K13),K13>=0,LEN(K13)<=12,ISNUMBER(L13),L13=INT(L13),L13>=0,LEN(L13)<=12),"OK","NG"),IF($Q$5=リスト!$J$4,IF(AND(ISNUMBER(J13),J13=INT(J13),J13>=0,LEN(J13)<=12,ISNUMBER(K13),K13=INT(K13),K13>=0,LEN(K13)<=12,ISNUMBER(L13),L13=INT(L13),L13>=0,LEN(L13)<=12,ISNUMBER(M13),M13=INT(M13),M13>=0,LEN(M13)<=12),"OK","NG"),IF($Q$5=リスト!$J$5,IF(AND(ISNUMBER(J13),J13=INT(J13),J13>=0,LEN(J13)<=12,ISNUMBER(K13),K13=INT(K13),K13>=0,LEN(K13)<=12,ISNUMBER(L13),L13=INT(L13),L13>=0,LEN(L13)<=12,ISNUMBER(M13),M13=INT(M13),M13>=0,LEN(M13)<=12,ISNUMBER(N13),N13=INT(N13),N13>=0,LEN(N13)<=12),"OK","NG"),"NG"))),"NG") -> OK | W13: - | X13: - | Y13: =IF($I13="","NG","OK") -> OK | Z13: =IF($Q$5=リスト!$J$3,IF(COUNTA($J13:$L13)<3,"NG","OK"),IF($Q$5=リスト!$J$4,IF(COUNTA($J13:$M13)<4,"NG","OK"),IF($Q$5=リスト!$J$5,IF(COUNTA($J13:$N13)<5,"NG","OK"),"NG"))) -> OK | AA13: -
D14: うち 補助事業の減価償却費 | E14: 0 | F14: 0 | G14: 0 | H14: 0 | I14: 0 | J14: 0 | K14: 0 | L14: 0 | S14: - | T14: - | U14: =IFERROR(IF(AND(ISNUMBER(I14),I14=INT(I14),I14>=0,LEN(I14)<=12),"OK","NG"),"NG") -> OK | V14: =IFERROR(IF($Q$5=リスト!$J$3,IF(AND(ISNUMBER(J14),J14=INT(J14),J14>=0,LEN(J14)<=12,ISNUMBER(K14),K14=INT(K14),K14>=0,LEN(K14)<=12,ISNUMBER(L14),L14=INT(L14),L14>=0,LEN(L14)<=12),"OK","NG"),IF($Q$5=リスト!$J$4,IF(AND(ISNUMBER(J14),J14=INT(J14),J14>=0,LEN(J14)<=12,ISNUMBER(K14),K14=INT(K14),K14>=0,LEN(K14)<=12,ISNUMBER(L14),L14=INT(L14),L14>=0,LEN(L14)<=12,ISNUMBER(M14),M14=INT(M14),M14>=0,LEN(M14)<=12),"OK","NG"),IF($Q$5=リスト!$J$5,IF(AND(ISNUMBER(J14),J14=INT(J14),J14>=0,LEN(J14)<=12,ISNUMBER(K14),K14=INT(K14),K14>=0,LEN(K14)<=12,ISNUMBER(L14),L14=INT(L14),L14>=0,LEN(L14)<=12,ISNUMBER(M14),M14=INT(M14),M14>=0,LEN(M14)<=12,ISNUMBER(N14),N14=INT(N14),N14>=0,LEN(N14)<=12),"OK","NG"),"NG"))),"NG") -> OK | W14: - | X14: - | Y14: =IF($I14="","NG","OK") -> OK | Z14: =IF($Q$5=リスト!$J$3,IF(COUNTA($J14:$L14)<3,"NG","OK"),IF($Q$5=リスト!$J$4,IF(COUNTA($J14:$M14)<4,"NG","OK"),IF($Q$5=リスト!$J$5,IF(COUNTA($J14:$N14)<5,"NG","OK"),"NG"))) -> OK | AA14: -
B15: 売上総利益 (売上高 - 売上原価) | E15: =E5-E8 -> 95000000 | F15: =F5-F8 -> 97500000 | G15: =G5-G8 -> 100000000 | H15: =H5-H8 -> 100000000 | I15: =I5-I8 -> 100000000 | J15: =J5-J8 -> 110080000 | K15: =K5-K8 -> 118144000 | L15: =L5-L8 -> 130240000 | ... N15: =N5-N8 -> 0 | P15: 付加価値額 目標値 (%) | Q15: =IF($Q$5="","",IF($Q$5=リスト!$J$3,L44,IF($Q$5=リスト!$J$4,M44,IF($Q$5=リスト!$J$5,N44,"")))) -> 9.6 | S15: =IF($Q$3=リスト!$B$3,IFERROR(IF(AND(ISNUMBER(E15),E15=INT(E15),LEN(ABS(E15))<=12,ISNUMBER(F15),F15=INT(F15),LEN(ABS(F15))<=12,ISNUMBER(G15),G15=INT(G15),LEN(ABS(G15))<=12),"OK","NG"),"NG"),IF($Q$3=リスト!$B$4,IFERROR(IF(AND(ISNUMBER(F15),F15=INT(F15),LEN(ABS(F15))<=12,ISNUMBER(G15),G15=INT(G15),LEN(ABS(G15))<=12),"OK","NG"),"NG"),IF($Q$3=リスト!$B$5,IFERROR(IF(AND(ISNUMBER(G15),G15=INT(G15),LEN(ABS(G15))<=12),"OK","NG"),"NG"),"-"))) -> OK | T15: =IFERROR(IF(AND(ISNUMBER(H15),H15=INT(H15),LEN(ABS(H15))<=12),"OK","NG"),"NG") -> OK | U15: =IFERROR(IF(AND(ISNUMBER(I15),I15=INT(I15),LEN(ABS(I15))<=12),"OK","NG"),"NG") -> OK | V15: =IFERROR(IF($Q$5=リスト!$J$3,IF(AND(ISNUMBER(J15),J15=INT(J15),LEN(ABS(J15))<=12,ISNUMBER(K15),K15=INT(K15),LEN(ABS(K15))<=12,ISNUMBER(L15),L15=INT(L15),LEN(ABS(L15))<=12),"OK","NG"),IF($Q$5=リスト!$J$4,IF(AND(ISNUMBER(J15),J15=INT(J15),LEN(ABS(J15))<=12,ISNUMBER(K15),K15=INT(K15),LEN(ABS(K15))<=12,ISNUMBER(L15),L15=INT(L15),LEN(ABS(L15))<=12,ISNUMBER(M15),M15=INT(M15),LEN(ABS(M15))<=12),"OK","NG"),IF($Q$5=リスト!$J$5,IF(AND(ISNUMBER(J15),J15=INT(J15),LEN(ABS(J15))<=12,ISNUMBER(K15),K15=INT(K15),LEN(ABS(K15))<=12,ISNUMBER(L15),L15=INT(L15),LEN(ABS(L15))<=12,ISNUMBER(M15),M15=INT(M15),LEN(ABS(M15))<=12,ISNUMBER(N15),N15=INT(N15),LEN(ABS(N15))<=12),"OK","NG"),"NG"))),"NG") -> OK | W15: - | X15: - | Y15: - | Z15: - | AA15: -
C16: うち 補助事業の売上総利益 | I16: =I7-I13 -> 0 | J16: =J7-J13 -> 10080000 | K16: =K7-K13 -> 18144000 | L16: =L7-L13 -> 30240000 | M16: =M7-M13 -> 0 | N16: =N7-N13 -> 0 | P16: (足下の賃上げ)一人当たりの 給与支給総額目標値 (%) | Q16: =IF($Q$3=リスト!$B$6,"-",IF(AND($Q$3=リスト!$B$5,COUNTIF(リスト!$C$4:$C$14,$Q$4)>0),"-",IFERROR(ROUNDDOWN((($I$53/$G$53)^(1/ROUND(((YEAR($I$3)-YEAR($G$3))*12+MONTH($I$3)-MONTH($G$3))/12,0))-1)*100,1),"-"))) -> 0 | S16: - | T16: - | U16: =IFERROR(IF(AND(ISNUMBER(I16),I16=INT(I16),LEN(ABS(I16))<=12),"OK","NG"),"NG") -> OK | V16: =IFERROR(IF($Q$5=リスト!$J$3,IF(AND(ISNUMBER(J16),J16=INT(J16),LEN(ABS(J16))<=12,ISNUMBER(K16),K16=INT(K16),LEN(ABS(K16))<=12,ISNUMBER(L16),L16=INT(L16),LEN(ABS(L16))<=12),"OK","NG"),IF($Q$5=リスト!$J$4,IF(AND(ISNUMBER(J16),J16=INT(J16),LEN(ABS(J16))<=12,ISNUMBER(K16),K16=INT(K16),LEN(ABS(K16))<=12,ISNUMBER(L16),L16=INT(L16),LEN(ABS(L16))<=12,ISNUMBER(M16),M16=INT(M16),LEN(ABS(M16))<=12),"OK","NG"),IF($Q$5=リスト!$J$5,IF(AND(ISNUMBER(J16),J16=INT(J16),LEN(ABS(J16))<=12,ISNUMBER(K16),K16=INT(K16),LEN(ABS(K16))<=12,ISNUMBER(L16),L16=INT(L16),LEN(ABS(L16))<=12,ISNUMBER(M16),M16=INT(M16),LEN(ABS(M16))<=12,ISNUMBER(N16),N16=INT(N16),LEN(ABS(N16))<=12),"OK","NG"),"NG"))),"NG") -> OK | W16: - | X16: - | Y16: - | Z16: - | AA16: -
B17: 販売費及び一般管理費 | E17: =E22+E24 -> 86000000 | F17: =F22+F24 -> 88500000 | G17: =G22+G24 -> 90000000 | H17: =H22+H24 -> 90000000 | I17: =I22+I24 -> 90000000 | J17: =J22+J24 -> 95200000 | K17: =K22+K24 -> 98000000 | L17: =L22+L24 -> 101000000 | ... N17: =N22+N24 -> 0 | P17: 一人当たりの 給与支給総額目標値 (%) | Q17: =IF($Q$5="","",IF($Q$5=リスト!$J$3,L54,IF($Q$5=リスト!$J$4,M54,IF($Q$5=リスト!$J$5,N54,"")))) -> 4 | S17: =IF($Q$3=リスト!$B$3,IFERROR(IF(AND(ISNUMBER(E17),E17=INT(E17),E17>=0,LEN(E17)<=12,ISNUMBER(F17),F17=INT(F17),F17>=0,LEN(F17)<=12,ISNUMBER(G17),G17=INT(G17),G17>=0,LEN(G17)<=12),"OK","NG"),"NG"),IF($Q$3=リスト!$B$4,IFERROR(IF(AND(ISNUMBER(F17),F17=INT(F17),F17>=0,LEN(F17)<=12,ISNUMBER(G17),G17=INT(G17),G17>=0,LEN(G17)<=12),"OK","NG"),"NG"),IF($Q$3=リスト!$B$5,IFERROR(IF(AND(ISNUMBER(G17),G17=INT(G17),G17>=0,LEN(G17)<=12),"OK","NG"),"NG"),"-"))) -> OK | T17: =IFERROR(IF(AND(ISNUMBER(H17),H17=INT(H17),H17>=0,LEN(H17)<=12),"OK","NG"),"NG") -> OK | U17: =IFERROR(IF(AND(ISNUMBER(I17),I17=INT(I17),I17>=0,LEN(I17)<=12),"OK","NG"),"NG") -> OK | V17: =IFERROR(IF($Q$5=リスト!$J$3,IF(AND(ISNUMBER(J17),J17=INT(J17),J17>=0,LEN(J17)<=12,ISNUMBER(K17),K17=INT(K17),K17>=0,LEN(K17)<=12,ISNUMBER(L17),L17=INT(L17),L17>=0,LEN(L17)<=12),"OK","NG"),IF($Q$5=リスト!$J$4,IF(AND(ISNUMBER(J17),J17=INT(J17),J17>=0,LEN(J17)<=12,ISNUMBER(K17),K17=INT(K17),K17>=0,LEN(K17)<=12,ISNUMBER(L17),L17=INT(L17),L17>=0,LEN(L17)<=12,ISNUMBER(M17),M17=INT(M17),M17>=0,LEN(M17)<=12),"OK","NG"),IF($Q$5=リスト!$J$5,IF(AND(ISNUMBER(J17),J17=INT(J17),J17>=0,LEN(J17)<=12,ISNUMBER(K17),K17=INT(K17),K17>=0,LEN(K17)<=12,ISNUMBER(L17),L17=INT(L17),L17>=0,LEN(L17)<=12,ISNUMBER(M17),M17=INT(M17),M17>=0,LEN(M17)<=12,ISNUMBER(N17),N17=INT(N17),N17>=0,LEN(N17)<=12),"OK","NG"),"NG"))),"NG") -> OK | W17: - | X17: - | Y17: - | Z17: - | AA17: -
C18: うち 人件費*2 | E18: 76000000 | F18: 78000000 | G18: 80000000 | H18: 80000000 | I18: 80000000 | J18: 83200000 | K18: 86500000 | L18: 90000000 | P18: 事業計画期間1年あたりの 補助事業で新たに製造等する製品等の 売上高見込み額(税抜) | Q18: =IF(Q5=リスト!$J$3,ROUNDDOWN(SUM(J7:L7)/3,0),IF(Q5=リスト!$J$4,ROUNDDOWN(SUM(J7:M7)/4,0),IF(Q5=リスト!$J$5,ROUNDDOWN(SUM(J7:N7)/5,0),""))) -> 27840000 | S18: =IF($Q$3=リスト!$B$3,IFERROR(IF(AND(ISNUMBER(E18),E18=INT(E18),E18>=0,LEN(E18)<=12,ISNUMBER(F18),F18=INT(F18),F18>=0,LEN(F18)<=12,ISNUMBER(G18),G18=INT(G18),G18>=0,LEN(G18)<=12),"OK","NG"),"NG"),IF($Q$3=リスト!$B$4,IFERROR(IF(AND(ISNUMBER(F18),F18=INT(F18),F18>=0,LEN(F18)<=12,ISNUMBER(G18),G18=INT(G18),G18>=0,LEN(G18)<=12),"OK","NG"),"NG"),IF($Q$3=リスト!$B$5,IFERROR(IF(AND(ISNUMBER(G18),G18=INT(G18),G18>=0,LEN(G18)<=12),"OK","NG"),"NG"),"-"))) -> OK | T18: =IFERROR(IF(AND(ISNUMBER(H18),H18=INT(H18),H18>=0,LEN(H18)<=12),"OK","NG"),"NG") -> OK | U18: =IFERROR(IF(AND(ISNUMBER(I18),I18=INT(I18),I18>=0,LEN(I18)<=12),"OK","NG"),"NG") -> OK | V18: =IFERROR(IF($Q$5=リスト!$J$3,IF(AND(ISNUMBER(J18),J18=INT(J18),J18>=0,LEN(J18)<=12,ISNUMBER(K18),K18=INT(K18),K18>=0,LEN(K18)<=12,ISNUMBER(L18),L18=INT(L18),L18>=0,LEN(L18)<=12),"OK","NG"),IF($Q$5=リスト!$J$4,IF(AND(ISNUMBER(J18),J18=INT(J18),J18>=0,LEN(J18)<=12,ISNUMBER(K18),K18=INT(K18),K18>=0,LEN(K18)<=12,ISNUMBER(L18),L18=INT(L18),L18>=0,LEN(L18)<=12,ISNUMBER(M18),M18=INT(M18),M18>=0,LEN(M18)<=12),"OK","NG"),IF($Q$5=リスト!$J$5,IF(AND(ISNUMBER(J18),J18=INT(J18),J18>=0,LEN(J18)<=12,ISNUMBER(K18),K18=INT(K18),K18>=0,LEN(K18)<=12,ISNUMBER(L18),L18=INT(L18),L18>=0,LEN(L18)<=12,ISNUMBER(M18),M18=INT(M18),M18>=0,LEN(M18)<=12,ISNUMBER(N18),N18=INT(N18),N18>=0,LEN(N18)<=12),"OK","NG"),"NG"))),"NG") -> OK | W18: =IF($Q$3=リスト!$B$3,IF(OR($E18="",$F18="",$G18=""),"NG","OK"),IF($Q$3=リスト!$B$4,IF(OR($F18="",$G18=""),"NG","OK"),IF($Q$3=リスト!$B$5,IF($G18="","NG","OK"),"-"))) -> OK | X18: =IF(H18="","NG","OK") -> OK | Y18: =IF(I18="","NG","OK") -> OK | Z18: =IF($Q$5=リスト!$J$3,IF(COUNTA($J18:$L18)<3,"NG","OK"),IF($Q$5=リスト!$J$4,IF(COUNTA($J18:$M18)<4,"NG","OK"),IF($Q$5=リスト!$J$5,IF(COUNTA($J18:$N18)<5,"NG","OK"),"NG"))) -> OK | AA18: -
C19: うち 減価償却費 | E19: =E23+E25 -> 5000000 | F19: =F23+F25 -> 5000000 | G19: =G23+G25 -> 5000000 | H19: =H23+H25 -> 5000000 | I19: =I23+I25 -> 5000000 | J19: =J23+J25 -> 7000000 | K19: =K23+K25 -> 6500000 | L19: =L23+L25 -> 6000000 | ... N19: =N23+N25 -> 0 | S19: =IF($Q$3=リスト!$B$3,IFERROR(IF(AND(ISNUMBER(E19),E19=INT(E19),E19>=0,LEN(E19)<=12,ISNUMBER(F19),F19=INT(F19),F19>=0,LEN(F19)<=12,ISNUMBER(G19),G19=INT(G19),G19>=0,LEN(G19)<=12),"OK","NG"),"NG"),IF($Q$3=リスト!$B$4,IFERROR(IF(AND(ISNUMBER(F19),F19=INT(F19),F19>=0,LEN(F19)<=12,ISNUMBER(G19),G19=INT(G19),G19>=0,LEN(G19)<=12),"OK","NG"),"NG"),IF($Q$3=リスト!$B$5,IFERROR(IF(AND(ISNUMBER(G19),G19=INT(G19),G19>=0,LEN(G19)<=12),"OK","NG"),"NG"),"-"))) -> OK | T19: =IFERROR(IF(AND(ISNUMBER(H19),H19=INT(H19),H19>=0,LEN(H19)<=12),"OK","NG"),"NG") -> OK | U19: =IFERROR(IF(AND(ISNUMBER(I19),I19=INT(I19),I19>=0,LEN(I19)<=12),"OK","NG"),"NG") -> OK | V19: =IFERROR(IF($Q$5=リスト!$J$3,IF(AND(ISNUMBER(J19),J19=INT(J19),J19>=0,LEN(J19)<=12,ISNUMBER(K19),K19=INT(K19),K19>=0,LEN(K19)<=12,ISNUMBER(L19),L19=INT(L19),L19>=0,LEN(L19)<=12),"OK","NG"),IF($Q$5=リスト!$J$4,IF(AND(ISNUMBER(J19),J19=INT(J19),J19>=0,LEN(J19)<=12,ISNUMBER(K19),K19=INT(K19),K19>=0,LEN(K19)<=12,ISNUMBER(L19),L19=INT(L19),L19>=0,LEN(L19)<=12,ISNUMBER(M19),M19=INT(M19),M19>=0,LEN(M19)<=12),"OK","NG"),IF($Q$5=リスト!$J$5,IF(AND(ISNUMBER(J19),J19=INT(J19),J19>=0,LEN(J19)<=12,ISNUMBER(K19),K19=INT(K19),K19>=0,LEN(K19)<=12,ISNUMBER(L19),L19=INT(L19),L19>=0,LEN(L19)<=12,ISNUMBER(M19),M19=INT(M19),M19>=0,LEN(M19)<=12,ISNUMBER(N19),N19=INT(N19),N19>=0,LEN(N19)<=12),"OK","NG"),"NG"))),"NG") -> OK | W19: - | X19: - | Y19: - | Z19: - | AA19: -
C20: うち 研究開発費 | E20: 0 | F20: 0 | G20: 0 | H20: 0 | I20: 0 | J20: 0 | K20: 0 | L20: 0 | S20: =IF($Q$3=リスト!$B$3,IFERROR(IF(AND(ISNUMBER(E20),E20=INT(E20),E20>=0,LEN(E20)<=12,ISNUMBER(F20),F20=INT(F20),F20>=0,LEN(F20)<=12,ISNUMBER(G20),G20=INT(G20),G20>=0,LEN(G20)<=12),"OK","NG"),"NG"),IF($Q$3=リスト!$B$4,IFERROR(IF(AND(ISNUMBER(F20),F20=INT(F20),F20>=0,LEN(F20)<=12,ISNUMBER(G20),G20=INT(G20),G20>=0,LEN(G20)<=12),"OK","NG"),"NG"),IF($Q$3=リスト!$B$5,IFERROR(IF(AND(ISNUMBER(G20),G20=INT(G20),G20>=0,LEN(G20)<=12),"OK","NG"),"NG"),"-"))) -> OK | T20: =IFERROR(IF(AND(ISNUMBER(H20),H20=INT(H20),H20>=0,LEN(H20)<=12),"OK","NG"),"NG") -> OK | U20: =IFERROR(IF(AND(ISNUMBER(I20),I20=INT(I20),I20>=0,LEN(I20)<=12),"OK","NG"),"NG") -> OK | V20: =IFERROR(IF($Q$5=リスト!$J$3,IF(AND(ISNUMBER(J20),J20=INT(J20),J20>=0,LEN(J20)<=12,ISNUMBER(K20),K20=INT(K20),K20>=0,LEN(K20)<=12,ISNUMBER(L20),L20=INT(L20),L20>=0,LEN(L20)<=12),"OK","NG"),IF($Q$5=リスト!$J$4,IF(AND(ISNUMBER(J20),J20=INT(J20),J20>=0,LEN(J20)<=12,ISNUMBER(K20),K20=INT(K20),K20>=0,LEN(K20)<=12,ISNUMBER(L20),L20=INT(L20),L20>=0,LEN(L20)<=12,ISNUMBER(M20),M20=INT(M20),M20>=0,LEN(M20)<=12),"OK","NG"),IF($Q$5=リスト!$J$5,IF(AND(ISNUMBER(J20),J20=INT(J20),J20>=0,LEN(J20)<=12,ISNUMBER(K20),K20=INT(K20),K20>=0,LEN(K20)<=12,ISNUMBER(L20),L20=INT(L20),L20>=0,LEN(L20)<=12,ISNUMBER(M20),M20=INT(M20),M20>=0,LEN(M20)<=12,ISNUMBER(N20),N20=INT(N20),N20>=0,LEN(N20)<=12),"OK","NG"),"NG"))),"NG") -> OK | W20: =IF($Q$3=リスト!$B$3,IF(OR($E20="",$F20="",$G20=""),"NG","OK"),IF($Q$3=リスト!$B$4,IF(OR($F20="",$G20=""),"NG","OK"),IF($Q$3=リスト!$B$5,IF($G20="","NG","OK"),"-"))) -> OK | X20: =IF(H20="","NG","OK") -> OK | Y20: =IF(I20="","NG","OK") -> OK | Z20: =IF($Q$5=リスト!$J$3,IF(COUNTA($J20:$L20)<3,"NG","OK"),IF($Q$5=リスト!$J$4,IF(COUNTA($J20:$M20)<4,"NG","OK"),IF($Q$5=リスト!$J$5,IF(COUNTA($J20:$N20)<5,"NG","OK"),"NG"))) -> OK | AA20: -
C21: うち 能力開発費 | E21: 0 | F21: 0 | G21: 0 | H21: 0 | I21: 0 | J21: 0 | K21: 0 | L21: 0 | S21: - | T21: - | U21: - | V21: - | W21: - | X21: - | Y21: - | Z21: - | AA21: -
C22: 既存事業の販売費及び一般管理費 | E22: 86000000 | F22: 88500000 | G22: 90000000 | H22: 90000000 | I22: 90000000 | J22: 91200000 | K22: 92000000 | L22: 93000000 | S22: =IF($Q$3=リスト!$B$3,IFERROR(IF(AND(ISNUMBER(E22),E22=INT(E22),E22>=0,LEN(E22)<=12,ISNUMBER(F22),F22=INT(F22),F22>=0,LEN(F22)<=12,ISNUMBER(G22),G22=INT(G22),G22>=0,LEN(G22)<=12),"OK","NG"),"NG"),IF($Q$3=リスト!$B$4,IFERROR(IF(AND(ISNUMBER(F22),F22=INT(F22),F22>=0,LEN(F22)<=12,ISNUMBER(G22),G22=INT(G22),G22>=0,LEN(G22)<=12),"OK","NG"),"NG"),IF($Q$3=リスト!$B$5,IFERROR(IF(AND(ISNUMBER(G22),G22=INT(G22),G22>=0,LEN(G22)<=12),"OK","NG"),"NG"),"-"))) -> OK | T22: =IFERROR(IF(AND(ISNUMBER(H22),H22=INT(H22),H22>=0,LEN(H22)<=12),"OK","NG"),"NG") -> OK | U22: =IFERROR(IF(AND(ISNUMBER(I22),I22=INT(I22),I22>=0,LEN(I22)<=12),"OK","NG"),"NG") -> OK | V22: =IFERROR(IF($Q$5=リスト!$J$3,IF(AND(ISNUMBER(J22),J22=INT(J22),J22>=0,LEN(J22)<=12,ISNUMBER(K22),K22=INT(K22),K22>=0,LEN(K22)<=12,ISNUMBER(L22),L22=INT(L22),L22>=0,LEN(L22)<=12),"OK","NG"),IF($Q$5=リスト!$J$4,IF(AND(ISNUMBER(J22),J22=INT(J22),J22>=0,LEN(J22)<=12,ISNUMBER(K22),K22=INT(K22),K22>=0,LEN(K22)<=12,ISNUMBER(L22),L22=INT(L22),L22>=0,LEN(L22)<=12,ISNUMBER(M22),M22=INT(M22),M22>=0,LEN(M22)<=12),"OK","NG"),IF($Q$5=リスト!$J$5,IF(AND(ISNUMBER(J22),J22=INT(J22),J22>=0,LEN(J22)<=12,ISNUMBER(K22),K22=INT(K22),K22>=0,LEN(K22)<=12,ISNUMBER(L22),L22=INT(L22),L22>=0,LEN(L22)<=12,ISNUMBER(M22),M22=INT(M22),M22>=0,LEN(M22)<=12,ISNUMBER(N22),N22=INT(N22),N22>=0,LEN(N22)<=12),"OK","NG"),"NG"))),"NG") -> OK | W22: =IF($Q$3=リスト!$B$3,IF(OR($E22="",$F22="",$G22=""),"NG","OK"),IF($Q$3=リスト!$B$4,IF(OR($F22="",$G22=""),"NG","OK"),IF($Q$3=リスト!$B$5,IF($G22="","NG","OK"),"-"))) -> OK | X22: =IF(H22="","NG","OK") -> OK | Y22: =IF(I22="","NG","OK") -> OK | Z22: =IF($Q$5=リスト!$J$3,IF(COUNTA($J22:$L22)<3,"NG","OK"),IF($Q$5=リスト!$J$4,IF(COUNTA($J22:$M22)<4,"NG","OK"),IF($Q$5=リスト!$J$5,IF(COUNTA($J22:$N22)<5,"NG","OK"),"NG"))) -> OK | AA22: -
